Workbook

Sheet Upute
A2: VAŽNE NAPOMENE !
A3: Tabela "Plan 20xx - 20xx":
A4: Ukoliko je broj redova (za projekte i mjere) nedovoljan u tabeli "Plan 20xx-20xx", željeni broj novih redova se unosi ("Insert") tako što se pozicionira na pretposljednji red u tabeli (označen sivom bojom) te se unesu novi redovi (desni klik mišem + insert). Unošenjem novih redova na ovaj način se osigurava "veza" tabele "Plan 20xx-20xx" i pomoćnih tabela "Ukupno po sektorima" i "Ukupno po godinama" te omogućava ispravan pregled kumulativnih podataka u pomoćnim tabelama.
A5: Nakon što se u tabelu "Plan 20xx-20xx" unesu novi redovi potrebno je u kolone 5, 9, 19, 21 (označene plavom bojom) kopirati relevantne formule za računanje zbira (pozicioniranjem mišem na polje koje sadrži formulu koja se želi kopirati + Ctrl C te kopiranje u željeno polje + Ctrl V).
A6: FORMULE NE TREBA BRISATI ILI PODATKE RUČNO UNOSITI U POLJA PREDVIĐENA ZA FORMULE !
A7: Pomoćne tabele
A8: Da bi se kumulativni podaci u pomoćnim tabelama "Ukupno po sektorima", "Ukupno po godinama" i "Ukupno po A-E klasifikaciji " ispravno prikazali (ili izračunali) potrebno je da se u tabelu "Plan 20xx-20xx" unesu odgovarajuće oznake sektora (na sljedeći način: ES, DS, SO), oznake godina i oznake A-E klasifikacije.
A9: Kako bi se osiguralo da se formule u pomoćnim tabelama ne poremete ili slučajno obrišu ove tabele su zaštičene ("zaključane"). U slučaju potrebe za izmjenama možete kontaktirati terensku kancelariju ILDP projekta.
A10: Kopiranje grafikona iz pomoćnih tabela u ostale dokumente
A11: Svi grafikoni iz pomoćnih tabela mogu se kopirati (copy/paste metodom) u ostale dokumente pripremljene u MS Word-u, Power point-u ili Excelu.

Sheet Plan 2019-2021
A1: Općina : Jablanica | D1: Plan implementacije i indikativni finansijski okvir za 2019-2021
A2: Veza sa strateškim i sektorskim ciljem/ ciljevima | B2: Projekat / mjera (vrijeme trajanja) | C2: Ukupni ishodi | D2: Ukupni orijent. izdaci (do završetka projekta) | E2: Ukupni predviđeni izdaci (za III godine) | F2: Finansiranje iz budžeta JLS | J2: Finansiranje iz ostalih izvora | V2: Nosioci implementacije | W2: Veza sa budžetom i/ili oznaka eksternog izvora finansiranja | X2: Opštinsko odjeljenje/služba odgovorno za praćenje | Y2: Godina početka impl. i A-E klasifikacija | Z2: Oznaka sektora
F3: Pregled po godinama | J3: Struktura ostalih izvora za I.god. | R3: Pregled ostalih izvora po godinama
F4: god. I | G4: god. II | H4: god. III | I4: ukupno (I+II+III) | J4: Kredit | K4: Entitet/Kanton | L4: Država | M4: Javna poduzeca | N4: Privatni izvori | O4: IPA | P4: Donatori | Q4: Ostalo | R4: god. I | S4: god. II | T4: god. III | U4: ukupno (I+II+III)
A6: 1 | B6: 2 | C6: 3 | D6: 4 | E6: 5=9+21 | F6: 6 | G6: 7 | H6: 8 | I6: 9=6+7+8 | J6: 10 | K6: 11 | L6: 12 | M6: 13 | N6: 14 | O6: 15 | P6: 16 | Q6: 17 | R6: 18=Zbir 10-17 | S6: 19 | T6: 20 | U6: 21=18+19+20 | V6: 22 | W6: 23 | X6: 24 | Y6: 25 | Z6: 26
A7: SC1/SEC1.1 | B7: 1.1.1.1. Projekat: Uspostavnjanje centra za obrazovanje stručnih kadrova (2020-2023) | C7: Do 2023.g. obuku uspješno završilo najmanje 200 učenika | D7: 172000 | E7: =SUM(I7+U7) -> 90000 | F7: 0 | G7: 15000 | H7: 15000 | I7: =SUM(F7:H7) -> 30000 | J7: 0 | L7: 0 | M7: 0 | N7: 0 | O7: 0 | P7: 0 | Q7: 0 | R7: =SUM(J7:Q7) -> 0 | S7: 30000 | T7: 30000 | U7: =SUM(R7:T7) -> 60000 | V7: Udruženje poduzetnika Jablanica | W7: Tekući transferi 614000 / Ministarstvo razvoja, poduzetništva i obrta, ILO, UNDP | X7: Služba za lokalni ekonomski razvoj i investicije, finansije i trezor | Y7: 2020 (C) | Z7: ES
A8: SC1/SEC1.1 | B8: 1.1.1.2. Projekat: Jačanje kapaciteta poslovnog inkubatora i klastera kamena (2019-2023) | C8: Do 2023.g. najmanje 50% educiranih polaznika pokrenulo vlastiti biznis ili su proširili postojeće kapacitete biznisa. | D8: 120000 | E8: =SUM(I8+U8) -> 72000 | F8: 12000 | G8: 10000 | H8: 10000 | I8: =SUM(F8:H8) -> 32000 | K8: 20000 | R8: =SUM(J8:Q8) -> 20000 | S8: 20000 | T8: 0 | U8: =SUM(R8:T8) -> 40000 | V8: Udruženje poduzetnika Jablanica | W8: Tekući transferi 614000 / Ministarstvo razvoja, poduzetništva i obrta | X8: Služba za lokalni ekonomski razvoj i investicije, finansije i trezor | Y8: 2019 (E) | Z8: ES
A9: SC1/SEC1.1 | B9: 1.1.2.1. Projekat: Izrada studije opravdanosti eksploatacije i prerade željezne rude (2021) | C9: Do 2021.g. studija opravdanosti eksploatacije i prerade željezne rude odobrena od strane Općinskog vijeća. | D9: 30000 | E9: =SUM(I9+U9) -> 30000 | F9: 0 | G9: 0 | H9: 30000 | I9: =SUM(F9:H9) -> 30000 | J9: 0 | K9: 0 | L9: 0 | M9: 0 | N9: 0 | O9: 0 | P9: 0 | Q9: 0 | R9: =SUM(J9:Q9) -> 0 | S9: 0 | T9: 0 | U9: =SUM(R9:T9) -> 0 | V9: Udruženje poduzetnika Jablanica | W9: Kapitalni transferi 615000 | X9: Služba za lokalni ekonomski razvoj i investicije, finansije i trezor | Y9: 2021 | Z9: ES
A10: SC1/SEC1.1 | B10: 1.1.2.2. Projekat: Izrada studije opravdanosti projekta izgradnje fabrike mineralne-kamene vune (2020) | C10: Do 2021.g. studija opravdanosti projekta izgradnje fabrike mineralne-kamene vune odobrena od strane Općinskog vijeća. | D10: 30000 | E10: =SUM(I10+U10) -> 30000 | F10: 0 | G10: 30000 | H10: 0 | I10: =SUM(F10:H10) -> 30000 | J10: 0 | K10: 0 | L10: 0 | M10: 0 | N10: 0 | O10: 0 | P10: 0 | Q10: 0 | R10: =SUM(J10:Q10) -> 0 | S10: 0 | T10: 0 | U10: =SUM(R10:T10) -> 0 | V10: Udruženje poduzetnika Jablanica | W10: Kapitalni transferi 615000 | X10: Služba za lokalni ekonomski razvoj i investicije, finansije i trezor | Y10: 2020 | Z10: ES
A11: SC1/SEC1.2 | B11: 1.2.1.1. Projekat: Druga šansa (2020-2023) | C11: Do 2023.g. najmanje 30 osoba sa područja općine Jablanica (20 -40 godina) usvojilo znanja i vještine za obavljanje odabranih strukovnih zanimanja u građevinskoj industriji. | D11: 52000 | E11: =SUM(I11+U11) -> 30000 | F11: 0 | G11: 15000 | H11: 15000 | I11: =SUM(F11:H11) -> 30000 | J11: 0 | K11: 0 | L11: 0 | M11: 0 | N11: 0 | O11: 0 | P11: 0 | Q11: 0 | R11: =SUM(J11:Q11) -> 0 | S11: 0 | T11: 0 | U11: =SUM(R11:T11) -> 0 | V11: Udruženje privrednika Jablanice, Srednja škola Jablanica | W11: Tekući transferi 614000 | X11: Služba za lokalni ekonomski razvoj i investicije, finansije i trezor | Y11: 2020 | Z11: ES
A12: SC1/SEC1.2 | B12: 1.2.1.2. Projekat: Informaciono Tehnoloski centar (2019) | C12: Do 2023. educirano najmanje 120 mladih osoba u oblasti IT tehnologija. | D12: 14000 | E12: =SUM(I12+U12) -> 14000 | F12: 6000 | G12: 0 | H12: 0 | I12: =SUM(F12:H12) -> 6000 | J12: 0 | L12: 0 | M12: 0 | N12: 0 | O12: 0 | P12: 8000 | Q12: 0 | R12: =SUM(J12:Q12) -> 8000 | S12: 0 | T12: 0 | U12: =SUM(R12:T12) -> 8000 | V12: Omladinski kulturni centar „UrbanArt“ Jablanica | W12: Tekući transferi 614000 / Ministarstvo razvoja, poduzetništva i obrta | X12: Služba za lokalni ekonomski razvoj i investicije, finansije i trezor | Y12: 2019 (E) | Z12: ES
A13: SC1/SEC1.2 | B13: 1.2.2.1. Projekat: Izrada i donošenje regulacionih planova poslovnih zona (2019-2021) | C13: Do 2021. godine regulacioni planovi zona Donja Jablanica II i Jarište usvojeni od strane Općinskog vijeća. | D13: 30000 | E13: =SUM(I13+U13) -> 30000 | F13: 15000 | G13: 0 | H13: 15000 | I13: =SUM(F13:H13) -> 30000 | J13: 0 | K13: 0 | L13: 0 | M13: 0 | N13: 0 | O13: 0 | P13: 0 | Q13: 0 | R13: =SUM(J13:Q13) -> 0 | S13: 0 | T13: 0 | U13: =SUM(R13:T13) -> 0 | V13: Služba za upravu za prostorno uređenje, građenje, zaštitu okoline, stambeno-komunalne poslove | W13: Kapitalni transferi 615000 | X13: Služba za upravu za prostorno uređenje, građenje, zaštitu okoline, stambeno-komunalne poslove | Y13: 2019 | Z13: ES
A14: SC1/SEC1.2 | B14: 1.2.2.2. Projekat: Izgradnja i opremanje poslovnih zona (2019) | C14: Do 2023.g. popunjeno najmanje 90% kapaciteta poslovne zona na lokalitetu UNIS-a. | D14: 2250000 | E14: =SUM(I14+U14) -> 2250000 | F14: 0 | G14: 0 | H14: 0 | I14: =SUM(F14:H14) -> 0 | J14: 2000000 | K14: 250000 | L14: 0 | M14: 0 | N14: 0 | O14: 0 | P14: 0 | Q14: 0 | R14: =SUM(J14:Q14) -> 2250000 | S14: 0 | T14: 0 | U14: =SUM(R14:T14) -> 2250000 | V14: Služba za lokalni ekonomski razvoj i investicije, finansije i trezor | W14: Kapitalni transferi 820000 / Kredit | X14: Služba za lokalni ekonomski razvoj i investicije, finansije i trezor | Y14: 2019 (E) | Z14: ES
A15: SC1/SEC1.2 | B15: 1.2.2.3. Projekat: Obezbjeđenje industrijske vode za potrebe poslovne zone Donja Jablanica (2021-2023) | C15: Do 2023.g. svi poslovni subjekti poslovne zone donja Jablanica prikljuceni na vodovodnu mrežu industrijske vode. | D15: 1000000 | E15: =SUM(I15+U15) -> 400000 | F15: 0 | G15: 0 | H15: 100000 | I15: =SUM(F15:H15) -> 100000 | J15: 0 | K15: 0 | L15: 0 | M15: 0 | N15: 0 | O15: 0 | P15: 0 | Q15: 0 | R15: =SUM(J15:Q15) -> 0 | S15: 150000 | T15: 150000 | U15: =SUM(R15:T15) -> 300000 | V15: Služba za upravu za prostorno uređenje, građenje, zaštitu okoline, stambeno-komunalne poslove | W15: Kapitalni transferi 615000 / JP EP BiH | X15: Služba za lokalni ekonomski razvoj i investicije, finansije i trezor | Y15: 2021 (D) | Z15: ES
A16: SC1/SEC1.2 | B16: 1.2.2.4. Mjera: Poticaji za MSP-a općine Jablanica (2019-2023) | C16: Do 2023.g. broj MSP i obrta povećan za 10% u odnosu na 2017. g | D16: 850000 | E16: =SUM(I16+U16) -> 510000 | F16: 160000 | G16: 175000 | H16: 175000 | I16: =SUM(F16:H16) -> 510000 | J16: 0 | K16: 0 | L16: 0 | M16: 0 | N16: 0 | O16: 0 | P16: 0 | Q16: 0 | R16: =SUM(J16:Q16) -> 0 | S16: 0 | T16: 0 | U16: =SUM(R16:T16) -> 0 | V16: Služba za lokalni ekonomski razvoj i investicije, finansije i trezor | W16: Tekući transferi 614000 | X16: Služba za lokalni ekonomski razvoj i investicije, finansije i trezor | Y16: 2019 | Z16: ES
A17: SC1/SEC1.2 | B17: 1.2.2.5. Mjera: Subvencioniranje MSP (2020-2023) | C17: Do 2023.g. najmanje 15 MSP uvećalo vrijednost osnovnih i obrtnih sredstava za najmanje 20% u odnosu na 2021. g | D17: 800000 | E17: =SUM(I17+U17) -> 500000 | F17: 0 | G17: 200000 | H17: 200000 | I17: =SUM(F17:H17) -> 400000 | J17: 0 | K17: 0 | L17: 0 | M17: 0 | N17: 0 | O17: 0 | P17: 0 | Q17: 0 | R17: =SUM(J17:Q17) -> 0 | S17: 0 | T17: 100000 | U17: =SUM(R17:T17) -> 100000 | V17: Služba za lokalni ekonomski razvoj i investicije, finansije i trezor | W17: Tekući transferi 614000 | X17: Služba za lokalni ekonomski razvoj i investicije, finansije i trezor | Y17: 2020 | Z17: ES
A18: SC1/SEC1.3 | B18: 1.3.1.1. Projekat: Ulaganje u turističke kapacitete koji se nalaze na Bijeloj stazi VIA DINARICA (2019-2023) | C18: Do 2023. godine najmanje 10.000 turista godišnje posjeti bijele i zelene staze Via Dinnarice. | D18: 400000 | E18: =SUM(I18+U18) -> 210000 | F18: 0 | G18: 30000 | H18: 30000 | I18: =SUM(F18:H18) -> 60000 | J18: 0 | K18: 50000 | L18: 0 | M18: 0 | N18: 0 | O18: 0 | P18: 0 | Q18: 0 | R18: =SUM(J18:Q18) -> 50000 | S18: 50000 | T18: 50000 | U18: =SUM(R18:T18) -> 150000 | V18: Služba za opću upravu, društvene djelatnosti, boračko-invalidsku zaštitu, socijalna pitanja i zajedničke poslove (više službi) | W18: Kapitalni transferi 615000 /IPA / UNDP / Ministarstvo trgovine, turizma i zaštite okoliša HNK | X18: Služba za opću upravu, društvene djelatnosti, boračko-invalidsku zaštitu, socijalna pitanja i zajedničke poslove | Y18: 2019 (E) | Z18: ES
A19: SC1/SEC1.3 | B19: 1.3.1.2. Projekat: Obnova porušenog istorijskog mosta preko rijeke Neretve (2019-2023) | C19: Do 2023.g. broj posjetilaca kompleksu bitka na Neretvi iznosi najmanje 60.000 na godišnjem nivou. | D19: 1250000 | E19: =SUM(I19+U19) -> 1250000 | F19: 200000 | G19: 0 | H19: 50000 | I19: =SUM(F19:H19) -> 250000 | J19: 0 | K19: 0 | L19: 0 | M19: 0 | N19: 0 | O19: 0 | P19: 500000 | Q19: 0 | R19: =SUM(J19:Q19) -> 500000 | S19: 500000 | T19: 0 | U19: =SUM(R19:T19) -> 1000000 | V19: Elektroprivreda | W19: Kapitalni transferi 615000 / JP EP BiH | X19: Služba za opću upravu, društvene djelatnosti, boračko-invalidsku zaštitu, socijalna pitanja i zajedničke poslove | Y19: 2019 (E) | Z19: ES
A20: SC1/SEC1.3 | B20: 1.3.1.3. Projekat: Revitalizacija zgrade i platoa Muzeja “Bitka za ranjenike na Neretvi” (2019-2023) | C20: Do 2023.g. broj posjetilaca kompleksu bitka na Neretvi iznosi najmanje 60.000 na godišnjem nivou. | D20: 400000 | E20: =SUM(I20+U20) -> 240000 | F20: 20000 | G20: 20000 | H20: 20000 | I20: =SUM(F20:H20) -> 60000 | J20: 0 | K20: 0 | L20: 60000 | M20: 0 | N20: 0 | O20: 0 | P20: 0 | Q20: 0 | R20: =SUM(J20:Q20) -> 60000 | S20: 60000 | T20: 60000 | U20: =SUM(R20:T20) -> 180000 | V20: JU Muzej Bitka za ranjenike na Neretvi | W20: Kapitalni transferi 615000 / Federalno ministarstvo kulture i sporta | X20: Služba za opću upravu, društvene djelatnosti, boračko-invalidsku zaštitu, socijalna pitanja i zajedničke poslove | Y20: 2019 (C) | Z20: ES
A21: SC1/SEC1.3 | B21: 1.3.1.4. Projekat: Putevima bosanskih bogumila (2019-2023) | C21: Do 2023.g. biciklističku stazu posjeti najmanje 1.000 korisnika na godišnjem nivou | D21: 15000 | E21: =SUM(I21+U21) -> 15000 | F21: 3000 | G21: 3000 | H21: 3000 | I21: =SUM(F21:H21) -> 9000 | J21: 0 | K21: 0 | L21: 0 | M21: 0 | N21: 0 | O21: 0 | P21: 2000 | Q21: 0 | R21: =SUM(J21:Q21) -> 2000 | S21: 2000 | T21: 2000 | U21: =SUM(R21:T21) -> 6000 | V21: Turistička agencija Vizit Jablanica | W21: Tekući transferi 614000 / Ministarstvo trgovine, turizma i zaštite okoliša HNK | X21: Služba za opću upravu, društvene djelatnosti, boračko-invalidsku zaštitu, socijalna pitanja i zajedničke poslove | Y21: 2019 (A) | Z21: ES
A22: SC1/SEC1.3 | B22: 1.3.1.5. Projekat: Jačanje kapaciteta turističke zajednice i turističkih agencija (2019-2023) | C22: Do 2023.g. certificirano najmanje 10 turističkih vodiča sa područja općine. | D22: 50000 | E22: =SUM(I22+U22) -> 30000 | F22: 5000 | G22: 5000 | H22: 5000 | I22: =SUM(F22:H22) -> 15000 | J22: 0 | K22: 0 | L22: 0 | M22: 0 | N22: 0 | O22: 0 | P22: 5000 | Q22: 0 | R22: =SUM(J22:Q22) -> 5000 | S22: 5000 | T22: 5000 | U22: =SUM(R22:T22) -> 15000 | V22: Služba za opću upravu, društvene djelatnosti, boračko-invalidsku zaštitu, socijalna pitanja i zajedničke poslove | W22: Tekući transferi 614000 / Ministarstvo trgovine, turizma i zaštite okoliša HNK | X22: Služba za prostorno uređenje, građenje, zaštitu okoline, stambeno-komunalne poslove | Y22: 2019 (D) | Z22: ES
A23: SC1/SEC1.3 | B23: 1.3.1.6. Projekat: Uređenje kulturno-historijskog lokaliteta Lokve. (2019-2023) | C23: Do 2023.g. turističku destinaciju Lokve posjeti najmanje 1500 turista na godišnjem nivou. | D23: 300000 | E23: =SUM(I23+U23) -> 220000 | F23: 60000 | G23: 20000 | H23: 20000 | I23: =SUM(F23:H23) -> 100000 | J23: 0 | K23: 40000 | L23: 0 | M23: 0 | N23: 0 | O23: 0 | P23: 0 | Q23: 0 | R23: =SUM(J23:Q23) -> 40000 | S23: 40000 | T23: 40000 | U23: =SUM(R23:T23) -> 120000 | V23: Služba za lokalni ekonomski razvoj i investicije, finansije i trezor | W23: Kapitalni transferi 615000 / Ministarstvo trgovine, turizma i zaštite okoliša HNK | X23: Služba za upravu za geodetske, imovinsko- pravne poslove i katastar nekretnina | Y23: 2019 (D) | Z23: ES
A24: SC1/SEC1.3 | B24: 1.3.2.1. Mjera: Program razvoja agroturizma (2019-2023) | C24: Do 2023.g. količina povrća uzgojenog u zaštićenom prostoru je za najmanje 30% veća u odnosu na 2017. | D24: 250000 | E24: =SUM(I24+U24) -> 150000 | F24: 20000 | G24: 20000 | H24: 20000 | I24: =SUM(F24:H24) -> 60000 | J24: 0 | K24: 30000 | L24: 0 | M24: 0 | N24: 0 | O24: 0 | P24: 0 | Q24: 0 | R24: =SUM(J24:Q24) -> 30000 | S24: 30000 | T24: 30000 | U24: =SUM(R24:T24) -> 90000 | V24: Služba za opću upravu, društvene djelatnosti, boračko-invalidsku zaštitu, socijalna pitanja i zajedničke poslove | W24: Kapitalni transferi 615000 / Ministarstvo poljoprivrede, šumarstva i vodoprivrede HNK | X24: Služba za opću upravu, društvene djelatnosti, boračko-invalidsku zaštitu, socijalna pitanja i zajedničke poslove | Y24: 2019 (E) | Z24: ES
A25: SC1/SEC1.3 | B25: 1.3.2.2. Projekat: Izrada sistema za navodnjavanje poljoprivrednih površina (2020-2023) | C25: Do 2023.g. količina proizvedenog povrća na otvorenom je za najmanje 20% veća u odnosu na 2017. | D25: 310000 | E25: =SUM(I25+U25) -> 210000 | F25: 0 | G25: 30000 | H25: 30000 | I25: =SUM(F25:H25) -> 60000 | J25: 0 | K25: 0 | L25: 0 | M25: 0 | N25: 0 | O25: 0 | P25: 0 | Q25: 0 | R25: =SUM(J25:Q25) -> 0 | S25: 50000 | T25: 100000 | U25: =SUM(R25:T25) -> 150000 | V25: Služba za opću upravu, društvene djelatnosti, boračko-invalidsku zaštitu, socijalna pitanja i zajedničke poslove | W25: Kapitalni transferi 615000 / Ministarstvo poljoprivrede, šumarstva i vodoprivrede HNK | X25: Služba za opću upravu, društvene djelatnosti, boračko-invalidsku zaštitu, socijalna pitanja i zajedničke poslove | Y25: 2020 (C) | Z25: ES
A26: SC1/SEC1.3 | B26: 1.3.2.4. Mjera: Manifestacija „Okusi Jablanice„ (2019-2023) | C26: U 2023. manifestacija Okusi Jablanice finansira se sa najmanje 50% iz vlastitih sredstava ostvarenih tokom trajanja manifestacije | D26: 50000 | E26: =SUM(I26+U26) -> 30000 | F26: 5000 | G26: 5000 | H26: 5000 | I26: =SUM(F26:H26) -> 15000 | J26: 0 | K26: 0 | L26: 0 | M26: 0 | N26: 0 | O26: 0 | P26: 5000 | Q26: 0 | R26: =SUM(J26:Q26) -> 5000 | S26: 5000 | T26: 5000 | U26: =SUM(R26:T26) -> 15000 | V26: Udruženje žena Most | W26: Tekući transferi 614000 / Ministarstvo trgovine, turizma i zaštite okoliša HNK | X26: Služba za lokalni ekonomski razvoj i investicije, finansije i trezor | Y26: 2019 (E) | Z26: ES
A27: SC1/SEC1.3 | B27: 1.3.2.5. Projekat: Izrada studije izvodljivosti za izgradnju centra za otkup, skladištenje i preradu poljoprivrednih proizvoda (2020) | C27: Do 2022 studija izvodljivosti prihvaćena od strane općinskog vijeća | D27: 7000 | E27: =SUM(I27+U27) -> 7000 | F27: 0 | G27: 7000 | H27: 0 | I27: =SUM(F27:H27) -> 7000 | J27: 0 | K27: 0 | L27: 0 | M27: 0 | N27: 0 | O27: 0 | P27: 0 | Q27: 0 | R27: =SUM(J27:Q27) -> 0 | S27: 0 | T27: 0 | U27: =SUM(R27:T27) -> 0 | V27: Služba za opću upravu, društvene djelatnosti, boračko-invalidsku zaštitu, socijalna pitanja i zajedničke poslove | W27: Tekući transferi 614000 | X27: Služba za opću upravu, društvene djelatnosti, boračko-invalidsku zaštitu, socijalna pitanja i zajedničke poslove | Y27: 2020 | Z27: ES
A28: SC1/SEC1.3 | B28: 1.3.2.6. Mjera: Poticaj za proizvodnju i otkup jagodičastog i bobičastog voća (2020-2023) | C28: Do 2023. količina otkupljenog jagodičastog i bobičastog voća iznosi najmanje 100 tona godišnje. | D28: 40000 | E28: =SUM(I28+U28) -> 20000 | F28: 0 | G28: 10000 | H28: 10000 | I28: =SUM(F28:H28) -> 20000 | J28: 0 | K28: 0 | L28: 0 | M28: 0 | N28: 0 | O28: 0 | P28: 0 | Q28: 0 | R28: =SUM(J28:Q28) -> 0 | S28: 0 | T28: 0 | U28: =SUM(R28:T28) -> 0 | V28: Služba za opću upravu, društvene djelatnosti, boračko-invalidsku zaštitu, socijalna pitanja i zajedničke poslove | W28: Tekući transferi 614000 | X28: Služba za opću upravu, društvene djelatnosti, boračko-invalidsku zaštitu, socijalna pitanja i zajedničke poslove | Y28: 2020 | Z28: ES
A29: SC2/SEC2.1 | B29: 2.1.1.1. Projekat: Nabavka adekvatne vanjske scenske pozornice (2020) | C29: Do kraja 2020 godine na vanjskoj sceni se realiziralo najmanje 10 kulturnih događaja na godišnjem nivou. | D29: 40000 | E29: =SUM(I29+U29) -> 40000 | F29: 0 | G29: 20000 | H29: 0 | I29: =SUM(F29:H29) -> 20000 | J29: 0 | K29: 0 | L29: 0 | M29: 0 | N29: 0 | O29: 0 | P29: 0 | Q29: 0 | R29: =SUM(J29:Q29) -> 0 | S29: 20000 | T29: 0 | U29: =SUM(R29:T29) -> 20000 | V29: Služba za opću upravu, društvene djelatnosti, boračko-invalidsku zaštitu, socijalna pitanja i zajedničke poslove | W29: Kapitalni transferi 615000 / Ministarstvo trgovine, turizma i zaštite okoliša HNK | X29: Služba za opću upravu, društvene djelatnosti, boračko-invalidsku zaštitu, socijalna pitanja i zajedničke poslove | Y29: 2020 (E) | Z29: DS
A30: SC2/SEC2.1 | B30: 2.1.1.2 Rekonstrukcija kino dvorane u Jablanici - I faza (2019-2023) | C30: Do 2023. godine na godišnjem nivou se organizira najmanje 50 različitih događaja u kino sali. | D30: 500000 | E30: =SUM(I30+U30) -> 280000 | F30: 30000 | G30: 50000 | H30: 50000 | I30: =SUM(F30:H30) -> 130000 | J30: 0 | K30: 0 | L30: 0 | M30: 0 | N30: 0 | O30: 0 | P30: 50000 | Q30: 0 | R30: =SUM(J30:Q30) -> 50000 | S30: 50000 | T30: 50000 | U30: =SUM(R30:T30) -> 150000 | V30: Služba za opću upravu, društvene djelatnosti, boračko-invalidsku zaštitu, socijalna pitanja i zajedničke poslove | W30: Kapitalni transferi 615000 / Federalno ministarstvo kulture i sporta | X30: Služba za opću upravu, društvene djelatnosti, boračko-invalidsku zaštitu, socijalna pitanja i zajedničke poslove | Y30: 2019 (C) | Z30: DS
A31: SC2/SEC2.1 | B31: 2.1.1.3. Projekat: Promocija aktivnosti jablaničkog ljeta (2019-2023) | C31: Do 2023.g manifestacija Jablaničko ljeto postala dio zvanične turističke ponude HNK. | D31: 20000 | E31: =SUM(I31+U31) -> 12000 | F31: 4000 | G31: 4000 | H31: 4000 | I31: =SUM(F31:H31) -> 12000 | J31: 0 | K31: 0 | L31: 0 | M31: 0 | N31: 0 | O31: 0 | P31: 0 | Q31: 0 | R31: =SUM(J31:Q31) -> 0 | S31: 0 | T31: 0 | U31: =SUM(R31:T31) -> 0 | V31: OKPIS | W31: Tekući transferi 614000 | X31: Služba za opću upravu, društvene djelatnosti, boračko-invalidsku zaštitu, socijalna pitanja i zajedničke poslove | Y31: 2019 | Z31: DS
A32: SC2/SEC2.1 | B32: 2.1.1.4. Modernizacija audio-video opreme u RTV Jablanica (2020-2023) | C32: Do 2023.g. cjelokupno osoblje RTV Jablanica osposobljeno za rad na digitalnoj opremi. | D32: 190000 | E32: =SUM(I32+U32) -> 120000 | F32: 0 | G32: 15000 | H32: 15000 | I32: =SUM(F32:H32) -> 30000 | J32: 0 | K32: 0 | L32: 0 | M32: 0 | N32: 0 | O32: 0 | P32: 0 | Q32: 0 | R32: =SUM(J32:Q32) -> 0 | S32: 30000 | T32: 60000 | U32: =SUM(R32:T32) -> 90000 | V32: JU RTV Jablanica | W32: Kapitalni transferi 615000 / Vlada HNK | X32: Služba za opću upravu, društvene djelatnosti, boračko-invalidsku zaštitu, socijalna pitanja i zajedničke poslove | Y32: 2020 (A) | Z32: DS
A33: SC2/SEC2.1 | B33: 2.1.1.5 Mjera: RockMaraton DemoFest (2019-2023) | C33: Do 2023.g u kalendar kulturnih dešavanja općine uvršten RockMaraton DemoFest | D33: 210000 | E33: =SUM(I33+U33) -> 126000 | F33: 7000 | G33: 7000 | H33: 7000 | I33: =SUM(F33:H33) -> 21000 | J33: 0 | K33: 0 | L33: 0 | M33: 0 | N33: 0 | O33: 0 | P33: 35000 | Q33: 0 | R33: =SUM(J33:Q33) -> 35000 | S33: 35000 | T33: 35000 | U33: =SUM(R33:T33) -> 105000 | V33: Omladinski kulturni centar „UrbanArt“ Jablanica | W33: Kapitalni transferi 615000 / Ministarstvo trgovine, turizma i zaštite okoliša HNK | X33: Služba za opću upravu, društvene djelatnosti, boračko-invalidsku zaštitu, socijalna pitanja i zajedničke poslove | Y33: 2019 (E) | Z33: DS
A34: SC2/SEC2.1 | B34: 2.1.1.6. Mjera: Izrada i provedba Godišnjeg kalendara pozorišnih predstava (2019-2023) | C34: Do 2023.g pozorišni dani uvršteni u zvanični kalendar kulturnih događanja u HNK. | D34: 65000 | E34: =SUM(I34+U34) -> 39000 | F34: 7000 | G34: 7000 | H34: 7000 | I34: =SUM(F34:H34) -> 21000 | J34: 0 | K34: 0 | L34: 0 | M34: 0 | N34: 0 | O34: 0 | P34: 6000 | Q34: 0 | R34: =SUM(J34:Q34) -> 6000 | S34: 6000 | T34: 6000 | U34: =SUM(R34:T34) -> 18000 | V34: Služba za opću upravu, društvene djelatnosti, boračko-invalidsku zaštitu, socijalna pitanja i zajedničke poslove | W34: Tekući transferi 614000 / OKPIS | X34: Služba za opću upravu, društvene djelatnosti, boračko-invalidsku zaštitu, socijalna pitanja i zajedničke poslove | Y34: 2019 (C) | Z34: DS
A35: SC2/SEC2.1 | B35: 2.1.1.7. Mjera: Obilježavanje historijskih datuma (2019-2023) | C35: Do 2023.g izrađen kalendar obilježavanja značajnih historijskih datuma | D35: 70000 | E35: =SUM(I35+U35) -> 39000 | F35: 7000 | G35: 10000 | H35: 10000 | I35: =SUM(F35:H35) -> 27000 | J35: 0 | K35: 0 | L35: 0 | M35: 0 | N35: 0 | O35: 0 | P35: 4000 | Q35: 0 | R35: =SUM(J35:Q35) -> 4000 | S35: 4000 | T35: 4000 | U35: =SUM(R35:T35) -> 12000 | V35: SABNOR i JOB | W35: Tekući transferi 614000 / Ministarstvo trgovine, turizma i zaštite okoliša HNK | X35: Služba za opću upravu, društvene djelatnosti, boračko-invalidsku zaštitu, socijalna pitanja i zajedničke poslove | Y35: 2019 (D) | Z35: DS
A36: SC2/SEC2.1 | B36: 2.1.2.1. Projekat: Rekonstrukcija stadiona Zlatan Alikadić Tazlo (2019-2023) | C36: Do 2023.g. na stadionu malih sportova se organizuje najmanje 50 različitih sportskih događaja na godišnjem nivou | D36: 210000 | E36: =SUM(I36+U36) -> 210000 | F36: 0 | G36: 30000 | H36: 30000 | I36: =SUM(F36:H36) -> 60000 | J36: 100000 | K36: 0 | L36: 0 | M36: 0 | N36: 0 | O36: 0 | P36: 0 | Q36: 0 | R36: =SUM(J36:Q36) -> 100000 | S36: 25000 | T36: 25000 | U36: =SUM(R36:T36) -> 150000 | V36: Služba za opću upravu, društvene djelatnosti, boračko-invalidsku zaštitu, socijalna pitanja i zajedničke poslove | W36: Kapitalni transferi 820000 / Kredit / Federalno ministarstvo kulture i sporta /Ministarstvo trgovine, turizma i zaštite okoliša HNK | X36: Služba za opću upravu, društvene djelatnosti, boračko-invalidsku zaštitu, socijalna pitanja i zajedničke poslove | Y36: 2019 (C) | Z36: DS
A37: SC2/SEC2.1 | B37: 2.1.2.2. Projekat: Izgradnja pomoćnog stadiona za fudbal (2019-2023) | C37: Do 2023.g. na pomoćnom stadionu za veliki fudbal se organizuje najmanje 20 različitih sportskih događaja. | D37: 500000 | E37: =SUM(I37+U37) -> 500000 | F37: 0 | G37: 0 | H37: 0 | I37: =SUM(F37:H37) -> 0 | J37: 500000 | K37: 0 | L37: 0 | M37: 0 | N37: 0 | O37: 0 | P37: 0 | Q37: 0 | R37: =SUM(J37:Q37) -> 500000 | S37: 0 | T37: 0 | U37: =SUM(R37:T37) -> 500000 | V37: Služba za opću upravu, društvene djelatnosti, boračko-invalidsku zaštitu, socijalna pitanja i zajedničke poslove | W37: Kapitalni transferi 820000 / Kredit | X37: Služba za opću upravu, društvene djelatnosti, boračko-invalidsku zaštitu, socijalna pitanja i zajedničke poslove | Y37: 2019 (D) | Z37: DS
A38: SC2/SEC2.2 | B38: 2.2.1.1. Izgradnja vatrogasnog doma - I faza izgradnje (2019-2021) | C38: Do 2023.g. Prosječno vrijeme dolaska vatrogasne jedinice na mjesto događaja smanjeno za najmanje 30%. | D38: 150000 | E38: =SUM(I38+U38) -> 150000 | F38: 15000 | G38: 35000 | H38: 0 | I38: =SUM(F38:H38) -> 50000 | J38: 0 | K38: 0 | L38: 0 | M38: 0 | N38: 0 | O38: 0 | P38: 20000 | Q38: 0 | R38: =SUM(J38:Q38) -> 20000 | S38: 40000 | T38: 40000 | U38: =SUM(R38:T38) -> 100000 | V38: Služba za civilnu i protivpožarnu zaštitu | W38: Kapitalni transferi 820000 / Uprava za civilnu zaštitu i vatrogastvo HNK | X38: Služba za civilnu i protivpožarnu zaštitu | Y38: 2019 (A) | Z38: DS
A39: SC2/SEC2.2 | B39: 2.2.1.2. Projekat: Uspostava vatrogasnog servisa (2020-2021) | C39: Do 2021.g. na godišnjem nivou se servisira najmanje 100 vatrogasnih aparata. | D39: 42000 | E39: =SUM(I39+U39) -> 42000 | F39: 0 | G39: 15000 | H39: 20000 | I39: =SUM(F39:H39) -> 35000 | J39: 0 | K39: 0 | L39: 0 | M39: 0 | N39: 0 | O39: 0 | P39: 0 | Q39: 0 | R39: =SUM(J39:Q39) -> 0 | S39: 0 | T39: 7000 | U39: =SUM(R39:T39) -> 7000 | V39: Dobrovoljno vatrogasno društvo | W39: Kapitalni transferi 615000 / Uprava za civilnu zaštitu i vatrogastvo HNK | X39: Služba za civilnu i protivpožarnu zaštitu | Y39: 2020 (B) | Z39: DS
A40: SC2/SEC2.2 | B40: 2.2.1.3. Projekat: Obuka uposlenika javnih ustanova na temu protivpožarne zaštite (2019-2020) | C40: Do 2020.g. nije zabilježen niti jedan požarni incident u objektima javnih ustanova sa posljedicama povređivanja. | D40: 5000 | E40: =SUM(I40+U40) -> 5000 | F40: 2500 | G40: 2500 | H40: 0 | I40: =SUM(F40:H40) -> 5000 | J40: 0 | K40: 0 | L40: 0 | M40: 0 | N40: 0 | O40: 0 | P40: 0 | Q40: 0 | R40: =SUM(J40:Q40) -> 0 | S40: 0 | T40: 0 | U40: =SUM(R40:T40) -> 0 | V40: Služba za civilnu i protivpožarnu zaštitu | W40: Tekući transferi 614000 | X40: Služba za civilnu i protivpožarnu zaštitu | Y40: 2019 | Z40: DS
A41: SC2/SEC2.2 | B41: 2.2.2.1. Projekat: Edukacija osnovaca i srednjoškolaca o osnovnim mjerama zaštite ljudskih i materijalnih resursa (2019-2023) | C41: Do 2023. godine svi učenici osnovnih i srednjih škola završili edukaciju na temu smanjenja rizika od katastrofa | D41: 45400 | E41: =SUM(I41+U41) -> 28000 | F41: 1000 | G41: 1000 | H41: 1000 | I41: =SUM(F41:H41) -> 3000 | J41: 0 | K41: 0 | L41: 0 | M41: 0 | N41: 0 | O41: 0 | P41: 5000 | Q41: 0 | R41: =SUM(J41:Q41) -> 5000 | S41: 10000 | T41: 10000 | U41: =SUM(R41:T41) -> 25000 | V41: JUOŠ | W41: Tekući transferi 614000 / Ministarstvo obrazovanja, nauke, kulture i sporta HNK / Srednja škola Jablanica | X41: Služba za civilnu i protivpožarnu zaštitu | Y41: 2019 (B) | Z41: DS
A42: SC2/SEC2.2 | B42: 2.2.2.2. Projekat: Izrada planova i obuka uposlenika iz zaštite od požara u obrazovnim ustanovama (2020-2023) | C42: Do 2023.g vježbe postupanja u slučaju katastrofa provode se najmanje jednom godišnje. | D42: 10000 | E42: =SUM(I42+U42) -> 8000 | F42: 0 | G42: 0 | H42: 2000 | I42: =SUM(F42:H42) -> 2000 | J42: 0 | K42: 0 | L42: 0 | M42: 0 | N42: 0 | O42: 0 | P42: 0 | Q42: 0 | R42: =SUM(J42:Q42) -> 0 | S42: 2000 | T42: 4000 | U42: =SUM(R42:T42) -> 6000 | V42: JUOŠ, MSŠC | W42: Tekući transferi 614000 / Ministarstvo obrazovanja, nauke, kulture i sporta HNK | X42: Služba za civilnu i protivpožarnu zaštitu | Y42: 2020 (B) | Z42: DS
A43: SC2/SEC2.2 | B43: 2.2.2.3. Projekat: Opremanje obrazovnih ustanova protivpožarnom opremom (2019-2023) | C43: Do 2023.g. nije zabilježena povreda niti jedna teža povreda usljed požara u školskim i predškolskim objektima. | D43: 20000 | E43: =SUM(I43+U43) -> 12000 | F43: 2000 | G43: 2000 | H43: 2000 | I43: =SUM(F43:H43) -> 6000 | J43: 0 | K43: 0 | L43: 0 | M43: 0 | N43: 0 | O43: 0 | P43: 2000 | Q43: 0 | R43: =SUM(J43:Q43) -> 2000 | S43: 2000 | T43: 2000 | U43: =SUM(R43:T43) -> 6000 | V43: Služba za civilnu i protivpožarnu zaštitu | W43: Kapitalni transferi 615000 / Ministarstvo obrazovanja, nauke, kulture i sporta HNK | X43: Služba za civilnu i protivpožarnu zaštitu | Y43: 2019 (A) | Z43: DS
A44: SC2/SEC2.2 | B44: 2.2.3.1. Projekat: Zaštita škarpe lokalne saobraćajnice u naselju Lug (2019-2023) | C44: Do 2023.g. nisu zabilježene obustave saobraćaja na lokalitetu naselja Lug. | D44: 37000 | E44: =SUM(I44+U44) -> 37000 | F44: 37000 | G44: 0 | H44: 0 | I44: =SUM(F44:H44) -> 37000 | J44: 0 | K44: 0 | L44: 0 | M44: 0 | N44: 0 | O44: 0 | P44: 0 | Q44: 0 | R44: =SUM(J44:Q44) -> 0 | S44: 0 | T44: 0 | U44: =SUM(R44:T44) -> 0 | V44: Služba za civilnu i protivpožarnu zaštitu | W44: Kapitalni transferi 615000 | X44: Služba za civilnu i protivpožarnu zaštitu | Y44: 2019 | Z44: DS
A45: SC2/SEC2.2 | B45: 2.2.3.2. Projekat: Zaštita od uticaja klizišta lokalnog puta Orlovac Milaševac u MZ Doljani (2019-2023) | C45: Do 2023.g. nisu zabilježene obustave saobraćaja na lokalitetu MZ Doljani | D45: 45000 | E45: =SUM(I45+U45) -> 27000 | F45: 4000 | G45: 4000 | H45: 4000 | I45: =SUM(F45:H45) -> 12000 | J45: 0 | K45: 0 | L45: 0 | M45: 0 | N45: 0 | O45: 0 | P45: 0 | Q45: 5000 | R45: =SUM(J45:Q45) -> 5000 | S45: 5000 | T45: 5000 | U45: =SUM(R45:T45) -> 15000 | V45: Služba za civilnu i protivpožarnu zaštitu | W45: Kapitalni transferi 615000 /Uprava za civilnu zaštitu i vatrogastvo HNK / Uprava za ceste HNK | X45: Služba za opću upravu, društvene djelatnosti, boračko-invalidsku zaštitu, socijalna pitanja i zajedničke poslove | Y45: 2019 (C) | Z45: DS
A46: SC2/SEC2.2 | B46: 2.2.3.3. Projekat: Zaštita stambenih objekata od kamenih gromada u naselju Zlate (2019-2023) | C46: Do 2023.g. nisu zabilježene štete na stambenim objektima u naselju Zlate | D46: 120000 | E46: =SUM(I46+U46) -> 90000 | F46: 10000 | G46: 10000 | H46: 10000 | I46: =SUM(F46:H46) -> 30000 | J46: 0 | K46: 0 | L46: 0 | M46: 0 | N46: 0 | O46: 0 | P46: 0 | Q46: 20000 | R46: =SUM(J46:Q46) -> 20000 | S46: 20000 | T46: 20000 | U46: =SUM(R46:T46) -> 60000 | V46: Služba za civilnu i protivpožarnu zaštitu | W46: Kapitalni transferi 615000 / Uprava za civilnu zaštitu i vatrogastvo HNK | X46: Služba za civilnu i protivpožarnu zaštitu | Y46: 2019 (B) | Z46: DS
A47: SC2/SEC2.2 | B47: 2.2.3.4. Projekat: Sanacija klizišta u naselju Donje Paprasko (2019-2023) | C47: Do 2023.g. nisu zabilježene štete na stambenim objektima u naselju Donje Paprasko. | D47: 45000 | E47: =SUM(I47+U47) -> 27000 | F47: 3000 | G47: 3000 | H47: 3000 | I47: =SUM(F47:H47) -> 9000 | J47: 0 | K47: 0 | L47: 0 | M47: 0 | N47: 0 | O47: 0 | P47: 0 | Q47: 6000 | R47: =SUM(J47:Q47) -> 6000 | S47: 6000 | T47: 6000 | U47: =SUM(R47:T47) -> 18000 | V47: Služba za civilnu i protivpožarnu zaštitu | W47: Kapitalni transferi 615000 / Uprava za civilnu zaštitu i vatrogastvo HNK | X47: Služba za civilnu i protivpožarnu zaštitu | Y47: 2019 (C) | Z47: DS
A48: SC2/SEC2.2 | B48: 2.2.3.5. Projekat: Zaštita škarpe lokalne saobraćajnice u naselju Baćina (Neviđeno) (2019-2023) | C48: Do 2023.g. nisu zabilježene obustave saobraćaja na lokalitetu Baćina | D48: 37000 | E48: =SUM(I48+U48) -> 22000 | F48: 3000 | G48: 3000 | H48: 3000 | I48: =SUM(F48:H48) -> 9000 | J48: 0 | K48: 0 | L48: 0 | M48: 0 | N48: 0 | O48: 0 | P48: 0 | Q48: 5000 | R48: =SUM(J48:Q48) -> 5000 | S48: 4000 | T48: 4000 | U48: =SUM(R48:T48) -> 13000 | V48: Služba za civilnu i protivpožarnu zaštitu | W48: Kapitalni transferi 615000 / Uprava za civilnu zaštitu i vatrogastvo HNK | X48: Služba za civilnu i protivpožarnu zaštitu | Y48: 2019 (B) | Z48: DS
A49: SC2/SEC2.2 | B49: 2.2.3.6. Projekat: Sanacija klizišta i mjesta odrona na lokalitetu Podstijenje (2019-2023) | C49: Do 2023.g. nisu zabilježene obustave saobraćaja na lokalitetu Podstijenje. | D49: 150000 | E49: =SUM(I49+U49) -> 90000 | F49: 30000 | G49: 30000 | H49: 30000 | I49: =SUM(F49:H49) -> 90000 | J49: 0 | K49: 0 | L49: 0 | M49: 0 | N49: 0 | O49: 0 | P49: 0 | Q49: 0 | R49: =SUM(J49:Q49) -> 0 | S49: 0 | T49: 0 | U49: =SUM(R49:T49) -> 0 | V49: Služba za prostorno uređenje | W49: Kapitalni transferi 615000 | X49: Služba za civilnu i protivpožarnu zaštitu | Y49: 2019 | Z49: DS
A50: SC2/SEC2.2 | B50: 2.2.3.7. Projekat: Poboljšanje sigurnosnih uslova na lokalnom putu Žarnik - Dragan selo u MZ Glogošnica (2019-2023) | C50: Do 2023.g. nije zabilježena niti jedna saobraćajna nesreća sa težim povredama. | D50: 70000 | E50: =SUM(I50+U50) -> 42000 | F50: 6000 | G50: 6000 | H50: 6000 | I50: =SUM(F50:H50) -> 18000 | J50: 0 | K50: 0 | L50: 0 | M50: 0 | N50: 0 | O50: 0 | P50: 0 | Q50: 8000 | R50: =SUM(J50:Q50) -> 8000 | S50: 8000 | T50: 8000 | U50: =SUM(R50:T50) -> 24000 | V50: Služba za upravu za prostorno uređenje, građenje, zaštitu okoline, stambeno-komunalne poslove | W50: Kapitalni transferi 615000 / Uprava za civilnu zaštitu i vatrogastvo HNK | X50: Služba za upravu za prostorno uređenje, građenje, zaštitu okoline, stambeno-komunalne poslove | Y50: 2019 (B) | Z50: DS
A51: SC2/SEC2.3 | B51: 2.3.1.1. Projekat: Savjetovalište i pomoć za djecu sa poteškoćama u razvoju, mlade i odrasle osobe izložene problemima nasilja, toksikomanije i delikvencije (2019-2020) | C51: Do 2020.g. Psihološko savjetovalište i Centar za inkluzivnu praksu pružaju usluge za najmanje 20 djece na sedmičnom osnovu. | D51: 11700 | E51: =SUM(I51+U51) -> 11700 | F51: 5000 | G51: 5000 | H51: 0 | I51: =SUM(F51:H51) -> 10000 | J51: 0 | K51: 0 | L51: 0 | M51: 0 | N51: 0 | O51: 0 | P51: 0 | Q51: 1700 | R51: =SUM(J51:Q51) -> 1700 | S51: 0 | T51: 0 | U51: =SUM(R51:T51) -> 1700 | V51: JU Centar za socijalni rad | W51: Tekući transferi 614000 / JU Centar za socijalni rad | X51: Služba za opću upravu, društvene djelatnosti, boračko-invalidsku zaštitu, socijalna pitanja i zajedničke poslove | Y51: 2019 (D) | Z51: DS
A52: SC2/SEC2.3 | B52: 2.3.1.2. Projekat: Uspostava dnevnog centra za djecu (2019-2023) | C52: Do 2023.g. Dnevni centar za djecu pruža usluge za najmanje 30 djece na dnevnoj osnovi | D52: 80000 | E52: =SUM(I52+U52) -> 46000 | F52: 10000 | G52: 10000 | H52: 10000 | I52: =SUM(F52:H52) -> 30000 | J52: 0 | K52: 0 | L52: 0 | M52: 0 | N52: 0 | O52: 0 | P52: 6000 | Q52: 0 | R52: =SUM(J52:Q52) -> 6000 | S52: 5000 | T52: 5000 | U52: =SUM(R52:T52) -> 16000 | V52: OKPIS | W52: Tekući transferi 614000 / OKPIS | X52: Služba za opću upravu, društvene djelatnosti, boračko-invalidsku zaštitu, socijalna pitanja i zajedničke poslove | Y52: 2018 (E) | Z52: DS
A53: SC2/SEC2.3 | B53: 2.3.1.3. Projekat: Povećanje smještajnih kapaciteta u JU Dom za stara i iznemogla lica (2019-2023) | C53: Do 2023. godine broj ukupno zbrinutih starih osoba u Domu iznosi najmanje 50 godišnje. | D53: 400000 | E53: =SUM(I53+U53) -> 200000 | F53: 50000 | G53: 0 | H53: 0 | I53: =SUM(F53:H53) -> 50000 | J53: 0 | K53: 0 | L53: 0 | M53: 0 | N53: 0 | O53: 0 | P53: 150000 | Q53: 0 | R53: =SUM(J53:Q53) -> 150000 | S53: 0 | T53: 0 | U53: =SUM(R53:T53) -> 150000 | V53: JU Dom za stara i iznemogla lica | W53: Kapitalni transferi 615000 / Federalno ministarstvo rada i socijalne politike /Ambasada Japana | X53: Služba za opću upravu, društvene djelatnosti, boračko-invalidsku zaštitu, socijalna pitanja i zajedničke poslove | Y53: 2019 (D) | Z53: DS
A54: SC2/SEC2.3 | B54: 2.3.1.4. Projekat: Izgradnja asfaltnog pristupa zgradi socijalnog stanovanja - put do harema Jasen (2019-2020) | C54: Do 2023.g. kapaciteti zgrade socijalnog stanovanja su u potpunosti popunjeni. | D54: 200000 | E54: =SUM(I54+U54) -> 200000 | F54: 200000 | G54: 0 | H54: 0 | I54: =SUM(F54:H54) -> 200000 | J54: 0 | K54: 0 | L54: 0 | M54: 0 | N54: 0 | O54: 0 | P54: 0 | Q54: 0 | R54: =SUM(J54:Q54) -> 0 | S54: 0 | T54: 0 | U54: =SUM(R54:T54) -> 0 | V54: Služba za upravu za prostorno uređenje, građenje, zaštitu okoline, stambeno-komunalne poslove | W54: Kapitalni transferi 615000 | X54: Služba za upravu za prostorno uređenje, građenje, zaštitu okoline, stambeno-komunalne poslove | Y54: 2019 | Z54: DS
A55: SC2/SEC2.3 | B55: 2.3.1.5. Izgradnja zgrade socijalnog stanovanja (2019) | C55: Do kraja 2019.g. najmanje osam porodica smješteno u stambenu jedinicu po principu socijalnog stanovanja | D55: 552000 | E55: =SUM(I55+U55) -> 552000 | F55: 132000 | G55: 0 | H55: 0 | I55: =SUM(F55:H55) -> 132000 | J55: 0 | K55: 0 | L55: 420000 | M55: 0 | N55: 0 | O55: 0 | P55: 0 | Q55: 0 | R55: =SUM(J55:Q55) -> 420000 | S55: 0 | T55: 0 | U55: =SUM(R55:T55) -> 420000 | V55: Služba za upravu za prostorno uređenje, građenje, zaštitu okoline, stambeno-komunalne poslove | W55: Kapitalni transferi 615000 /CEB II | X55: Služba za upravu za prostorno uređenje, građenje, zaštitu okoline, stambeno-komunalne poslove | Y55: 2019 (E) | Z55: DS
A56: SC2/SEC2.3 | B56: 2.3.2.1. Projekat: Izgradja vanjske učionice - eko učionica (2019-2023) | C56: Do 2023.g. eko učionicu posjeti najmanje 50 učenika na dnevnoj osnovi. | D56: 30000 | E56: =SUM(I56+U56) -> 18000 | F56: 0 | G56: 0 | H56: 6000 | I56: =SUM(F56:H56) -> 6000 | J56: 0 | K56: 0 | L56: 0 | M56: 0 | N56: 0 | O56: 0 | P56: 4000 | Q56: 0 | R56: =SUM(J56:Q56) -> 4000 | S56: 4000 | T56: 4000 | U56: =SUM(R56:T56) -> 12000 | V56: JU OŠ Suljo Čilić Jablanica | W56: Kapitalni transferi 615000 / Ministarstvo obrazovanja, nauke, kulture i sporta HNK | X56: Služba za opću upravu, društvene djelatnosti, boračko-invalidsku zaštitu, socijalna pitanja i zajedničke poslove | Y56: 2019 (A) | Z56: DS
A57: SC2/SEC2.3 | B57: 2.3.2.2. Projekat: Nabavka nastavnih učila i opremanje učionica u skladu sa Standardima. (2019-2023) | C57: Do 2023.g. opremljene učionice savremenom opremom i knjižnicu koristi najmanje 50 učenika dnevno. | D57: 25000 | E57: =SUM(I57+U57) -> 16000 | F57: 2000 | G57: 2000 | H57: 2000 | I57: =SUM(F57:H57) -> 6000 | J57: 0 | K57: 0 | L57: 0 | M57: 0 | N57: 0 | O57: 0 | P57: 4000 | Q57: 0 | R57: =SUM(J57:Q57) -> 4000 | S57: 3000 | T57: 3000 | U57: =SUM(R57:T57) -> 10000 | V57: JU OŠ Suljo Čilić Jablanica | W57: Kapitalni transferi 615000 / Ministarstvo obrazovanja, nauke, kulture i sporta HNK | X57: Služba za opću upravu, društvene djelatnosti, boračko-invalidsku zaštitu, socijalna pitanja i zajedničke poslove | Y57: 2019 (A) | Z57: DS
A58: SC2/SEC2.3 | B58: 2.3.2.3. Projekat: Obezbjediti tehničke uslove za pristup djece sa poteškoćama u razvoju Ustanovi obrazovanja (2019-2023) | C58: Do 2023.g. djeca sa teškoćama u razvoju imaju pristup svim školskim sadržajima u OŠ Suljo Čilić Jablanica i područnim školama Slatina i Glogošnica. | D58: 50000 | E58: =SUM(I58+U58) -> 30000 | F58: 2000 | G58: 2000 | H58: 2000 | I58: =SUM(F58:H58) -> 6000 | J58: 0 | K58: 0 | L58: 0 | M58: 0 | N58: 0 | O58: 0 | P58: 0 | Q58: 8000 | R58: =SUM(J58:Q58) -> 8000 | S58: 8000 | T58: 8000 | U58: =SUM(R58:T58) -> 24000 | V58: JU OŠ Suljo Čilić Jablanica | W58: Kapitalni transferi 615000 / Ministarstvo obrazovanja, nauke, kulture i sporta HNK | X58: Služba za opću upravu, društvene djelatnosti, boračko-invalidsku zaštitu, socijalna pitanja i zajedničke poslove | Y58: 2019 (A) | Z58: DS
A59: SC2/SEC2.3 | B59: 2.3.2.4. Projekat: Izgradnja vanjskog sportskog terena (2019-2023) | C59: Do 2023.g. najmanje 90% učenika koristi vanjski sportski teren tokom školskih i van nastavnih aktivnosti | D59: 70000 | E59: =SUM(I59+U59) -> 45000 | F59: 5000 | G59: 5000 | H59: 5000 | I59: =SUM(F59:H59) -> 15000 | J59: 0 | K59: 0 | L59: 0 | M59: 0 | N59: 0 | O59: 0 | P59: 10000 | Q59: 0 | R59: =SUM(J59:Q59) -> 10000 | S59: 10000 | T59: 10000 | U59: =SUM(R59:T59) -> 30000 | V59: JU OŠ Suljo Čilić Jablanica | W59: Kapitalni transferi 615000 / Ministarstvo obrazovanja, nauke, kulture i sporta HNK | X59: Služba za opću upravu, društvene djelatnosti, boračko-invalidsku zaštitu, socijalna pitanja i zajedničke poslove | Y59: 2019 (A) | Z59: DS
A60: SC2/SEC2.3 | B60: 2.3.3.1. Mjera: Podrška porodicama za novorođenčad (2019-2023) | C60: U periodu 2019-2023 godina najmanje 100 porodica je imalo koristi od podrške novorođenčadima. | D60: 150000 | E60: =SUM(I60+U60) -> 90000 | F60: 30000 | G60: 30000 | H60: 30000 | I60: =SUM(F60:H60) -> 90000 | J60: 0 | K60: 0 | L60: 0 | M60: 0 | N60: 0 | O60: 0 | P60: 0 | Q60: 0 | R60: =SUM(J60:Q60) -> 0 | S60: 0 | T60: 0 | U60: =SUM(R60:T60) -> 0 | V60: Služba za opću upravu, društvene djelatnosti, boračko-invalidsku zaštitu, socijalna pitanja i zajedničke poslove | W60: Tekući transferi 614000 | X60: Služba za opću upravu, društvene djelatnosti, boračko-invalidsku zaštitu, socijalna pitanja i zajedničke poslove | Y60: 2019 | Z60: DS
A61: SC2/SEC2.3 | B61: 2.3.3.2. Mjera: Stambeno zbrinjavanje mladih (2019-2023) | C61: Do 2023.g. stanbeno zbrinuto najmanje 25 mladih porodica. | D61: 80000 | E61: =SUM(I61+U61) -> 40000 | F61: 0 | G61: 20000 | H61: 20000 | I61: =SUM(F61:H61) -> 40000 | J61: 0 | K61: 0 | L61: 0 | M61: 0 | N61: 0 | O61: 0 | P61: 0 | Q61: 0 | R61: =SUM(J61:Q61) -> 0 | S61: 0 | T61: 0 | U61: =SUM(R61:T61) -> 0 | V61: Služba za opću upravu, društvene djelatnosti, boračko-invalidsku zaštitu, socijalna pitanja i zajedničke poslove | W61: Tekući transferi 614000 | X61: Služba za opću upravu, društvene djelatnosti, boračko-invalidsku zaštitu, socijalna pitanja i zajedničke poslove | Y61: 2019 | Z61: DS
A62: SC2/SEC2.4 | B62: 2.4.1.1. Projekat: Razvijene MZ (2019-2023) | C62: Do 2023.g. svi predstavnici MZ koriste Internet za izvještavanje o aktivnostima sa terena. | D62: 25000 | E62: =SUM(I62+U62) -> 15000 | F62: 5000 | G62: 5000 | H62: 5000 | I62: =SUM(F62:H62) -> 15000 | J62: 0 | K62: 0 | L62: 0 | M62: 0 | N62: 0 | O62: 0 | P62: 0 | Q62: 0 | R62: =SUM(J62:Q62) -> 0 | S62: 0 | T62: 0 | U62: =SUM(R62:T62) -> 0 | V62: Služba za opću upravu, društvene djelatnosti, boračko-invalidsku zaštitu, socijalna pitanja i zajedničke poslove | W62: Tekući transferi 614000 | X62: Služba za opću upravu, društvene djelatnosti, boračko-invalidsku zaštitu, socijalna pitanja i zajedničke poslove | Y62: 2019 | Z62: DS
A63: SC2/SEC2.4 | B63: 2.4.1.2. Projekat: Izgradnja igrališta u naselju Lug (MZ Lug) i društveni dom u MZ Baćina (2020-2023) | C63: Do 2023.g. Igrališta u MZ Lug i Dom u MZ Baćina koristi najmanje 30 građana na dnevnoj osnovi | D63: 80000 | E63: =SUM(I63+U63) -> 35000 | F63: 0 | G63: 15000 | H63: 20000 | I63: =SUM(F63:H63) -> 35000 | J63: 0 | K63: 0 | L63: 0 | M63: 0 | N63: 0 | O63: 0 | P63: 0 | Q63: 0 | R63: =SUM(J63:Q63) -> 0 | S63: 0 | T63: 0 | U63: =SUM(R63:T63) -> 0 | V63: Služba za opću upravu, društvene djelatnosti, boračko-invalidsku zaštitu, socijalna pitanja i zajedničke poslove | W63: Kapitalni transferi 615000 | X63: Služba za opću upravu, društvene djelatnosti, boračko-invalidsku zaštitu, socijalna pitanja i zajedničke poslove | Y63: 2020 | Z63: DS
A64: SC2/SEC2.4 | B64: 2.4.1.3. Projekat: Informatizacija rada Općinskog vijeća Jablanica (2021-2022) | C64: Do 2020g. svi dokumenti na općinskom vijeću se razmatraju u elektronskoj formi. | D64: 20000 | E64: =SUM(I64+U64) -> 10000 | F64: 0 | G64: 0 | H64: 10000 | I64: =SUM(F64:H64) -> 10000 | J64: 0 | K64: 0 | L64: 0 | M64: 0 | N64: 0 | O64: 0 | P64: 0 | Q64: 0 | R64: =SUM(J64:Q64) -> 0 | S64: 0 | T64: 0 | U64: =SUM(R64:T64) -> 0 | V64: Služba za opću upravu, društvene djelatnosti, boračko-invalidsku zaštitu, socijalna pitanja i zajedničke poslove | W64: Kapitalni transferi 615000 | X64: Služba za opću upravu, društvene djelatnosti, boračko-invalidsku zaštitu, socijalna pitanja i zajedničke poslove | Y64: 2021 | Z64: DS
A65: SC2/SEC2.4 | B65: 2.4.1.4. Projekat: Regulacioni plan Gornja Kolonija (2019-2020) | C65: Do 2020 godine regulacioni plan kolonija usvojen od strane općinskog vijeća | D65: 20000 | E65: =SUM(I65+U65) -> 20000 | F65: 20000 | G65: 0 | H65: 0 | I65: =SUM(F65:H65) -> 20000 | J65: 0 | K65: 0 | L65: 0 | M65: 0 | N65: 0 | O65: 0 | P65: 0 | Q65: 0 | R65: =SUM(J65:Q65) -> 0 | S65: 0 | T65: 0 | U65: =SUM(R65:T65) -> 0 | V65: Služba za upravu za prostorno uređenje, građenje, zaštitu okoline, stambeno-komunalne poslove | W65: Kapitalni transferi 615000 | X65: Služba za upravu za prostorno uređenje, građenje, zaštitu okoline, stambeno-komunalne poslove | Y65: 2019 | Z65: DS
A66: SC2/SEC2.4 | B66: 2.4.1.5. Projekat: Usaglašavanje prostorno planske dokumentacije (2020-2023) | C66: Do 2023. godine usaglašena planska dokumentacija usvojena od strane općinskog vijeća | D66: 100000 | E66: =SUM(I66+U66) -> 70000 | F66: 0 | G66: 30000 | H66: 40000 | I66: =SUM(F66:H66) -> 70000 | J66: 0 | K66: 0 | L66: 0 | M66: 0 | N66: 0 | O66: 0 | P66: 0 | Q66: 0 | R66: =SUM(J66:Q66) -> 0 | S66: 0 | T66: 0 | U66: =SUM(R66:T66) -> 0 | V66: Služba za upravu za prostorno uređenje | W66: Kapitalni transferi 615000 | X66: Služba za upravu za prostorno uređenje, građenje, zaštitu okoline, stambeno-komunalne poslove | Y66: 2020 | Z66: DS
A67: SC2/SEC2.4 | B67: 2.4.1.6. Projekat: Urbanistički plan Ostrožac (2019) | C67: Do 2020 godine urbanistički plan Ostrožac usvojen od strane općinskog vijeća | D67: 20000 | E67: =SUM(I67+U67) -> 20000 | F67: 20000 | G67: 0 | H67: 0 | I67: =SUM(F67:H67) -> 20000 | J67: 0 | K67: 0 | L67: 0 | M67: 0 | N67: 0 | O67: 0 | P67: 0 | Q67: 0 | R67: =SUM(J67:Q67) -> 0 | S67: 0 | T67: 0 | U67: =SUM(R67:T67) -> 0 | V67: Služba za upravu za prostorno uređenje, građenje, zaštitu okoline, stambeno-komunalne poslove | W67: Kapitalni transferi 615000 | X67: Služba za upravu za prostorno uređenje, građenje, zaštitu okoline, stambeno-komunalne poslove | Y67: 2019 | Z67: DS
A68: SC2/SEC2.4 | B68: 2.4.2.1. Projekat: Edukacija mladih i organizacija OCD-a za pisanje prijedloga projekta (2019-2023) | C68: U periodu 2019-2023.g. Najmanje 20 prijedloga projekata OCD-a upućeno donatorima na odobrenje. | D68: 14000 | E68: =SUM(I68+U68) -> 8000 | F68: 3000 | G68: 3000 | H68: 2000 | I68: =SUM(F68:H68) -> 8000 | J68: 0 | K68: 0 | L68: 0 | M68: 0 | N68: 0 | O68: 0 | P68: 0 | Q68: 0 | R68: =SUM(J68:Q68) -> 0 | S68: 0 | T68: 0 | U68: =SUM(R68:T68) -> 0 | V68: OKPIS | W68: Tekući transferi 614000 | X68: Služba za opću upravu, društvene djelatnosti, boračko-invalidsku zaštitu, socijalna pitanja i zajedničke poslove | Y68: 2019 | Z68: DS
A69: SC2/SEC2.4 | B69: 2.4.2.2. Projekat: Jačanje kapaciteta žena u liderstvu (2019-2023) | C69: Do 2023.g. organizirano najmane 10 informativnih sesija u različitim MZ o ulozi žene u procesu odlučivanja | D69: 50000 | E69: =SUM(I69+U69) -> 31000 | F69: 2000 | G69: 2000 | H69: 2000 | I69: =SUM(F69:H69) -> 6000 | J69: 0 | K69: 0 | L69: 0 | M69: 0 | N69: 0 | O69: 0 | P69: 10000 | Q69: 0 | R69: =SUM(J69:Q69) -> 10000 | S69: 10000 | T69: 5000 | U69: =SUM(R69:T69) -> 25000 | V69: Udruženje žena Most | W69: Tekući transferi 614000 / Help | X69: Služba za opću upravu, društvene djelatnosti, boračko-invalidsku zaštitu, socijalna pitanja i zajedničke poslove | Y69: 2019 (A) | Z69: DS
A70: SC3/SEC3.1 | B70: 3.1.1.1. Projekat: Završetak postojećih „prečistača“ i kanalizacione mreže u užem urbanom području (2020-2023) | C70: Do 2023.g. najmanje 20 privrednih subjekata i 100 domaćinstava priključeno na kanalizacionu mrežu | D70: 175000 | E70: =SUM(I70+U70) -> 100000 | F70: 0 | G70: 0 | H70: 0 | I70: =SUM(F70:H70) -> 0 | J70: 0 | K70: 0 | L70: 0 | M70: 0 | N70: 0 | O70: 0 | P70: 0 | Q70: 0 | R70: =SUM(J70:Q70) -> 0 | S70: 50000 | T70: 50000 | U70: =SUM(R70:T70) -> 100000 | V70: Služba za upravu za prostorno uređenje, građenje, zaštitu okoline, stambeno-komunalne poslove | W70: Kapitalni transferi 615000 / JP EP BiH | X70: Služba za upravu za prostorno uređenje, građenje, zaštitu okoline, stambeno-komunalne poslove | Y70: 2020 (D) | Z70: SO
A71: SC3/SEC3.1 | B71: 3.1.1.2. Projekat: Izgradnja i puštanje u pogon uređaja za prečišćavanje otpadnih voda na lokalitetu „Muzej - stadion“ (2020-2023) | C71: Do 2023.g. otpadna voda iz najmanje 100 domaćinstava se prečišćava. | D71: 250000 | E71: =SUM(I71+U71) -> 150000 | F71: 0 | G71: 0 | H71: 0 | I71: =SUM(F71:H71) -> 0 | J71: 0 | K71: 0 | L71: 0 | M71: 0 | N71: 0 | O71: 0 | P71: 0 | Q71: 0 | R71: =SUM(J71:Q71) -> 0 | S71: 50000 | T71: 100000 | U71: =SUM(R71:T71) -> 150000 | V71: Služba za upravu za prostorno uređenje, građenje, zaštitu okoline, stambeno-komunalne poslove | W71: Kapitalni transferi 615000 / JP EP BiH | X71: Služba za upravu za prostorno uređenje, građenje, zaštitu okoline, stambeno-komunalne poslove | Y71: 2020 (C) | Z71: SO
A72: SC3/SEC3.1 | B72: 3.1.1.3. Projekat: Razdvajanje fekalne i oborinske kanalizacije na području gdje su izgrađeni prečistači (2019-2023) | C72: Do 2023.g. razdvajanje fekalne i oborinske kanalizacije se vrši na lokaciji najmanje 3 izgrađena prečistača. | D72: 500000 | E72: =SUM(I72+U72) -> 300000 | F72: 0 | G72: 0 | H72: 0 | I72: =SUM(F72:H72) -> 0 | J72: 0 | K72: 0 | L72: 0 | M72: 0 | N72: 0 | O72: 0 | P72: 0 | Q72: 100000 | R72: =SUM(J72:Q72) -> 100000 | S72: 100000 | T72: 100000 | U72: =SUM(R72:T72) -> 300000 | V72: Elektroprivreda | W72: Kapitalni transferi 615000 | X72: Služba za upravu za prostorno uređenje, građenje, zaštitu okoline, stambeno-komunalne poslove | Y72: 2019 (C) | Z72: SO
A73: SC3/SEC3.1 | B73: 3.1.1.4. Projekat: Završetak izgradnje kanalizacione mreže Baćina-Mirke-Čehari-Bukov Pod (2019-2023) | C73: Do 2023.g. najmanje 300 korisnika priključeno na kanalizacionu mrežu | D73: 350000 | E73: =SUM(I73+U73) -> 200000 | F73: 0 | G73: 40000 | H73: 40000 | I73: =SUM(F73:H73) -> 80000 | J73: 0 | K73: 40000 | L73: 0 | M73: 0 | N73: 0 | O73: 0 | P73: 0 | Q73: 0 | R73: =SUM(J73:Q73) -> 40000 | S73: 40000 | T73: 40000 | U73: =SUM(R73:T73) -> 120000 | V73: Služba za upravu za prostorno uređenje, građenje, zaštitu okoline, stambeno-komunalne poslove | W73: Kapitalni transferi 615000 / JP EP BiH | X73: Služba za upravu za prostorno uređenje, građenje, zaštitu okoline, stambeno-komunalne poslove | Y73: 2019 (C) | Z73: SO
A74: SC3/SEC3.1 | B74: 3.1.1.5. Projekat: Završetak i puštanje u pogon uređaja za prečišćavanje otpadnih voda u prigradskim naseljima (Donje Paprasko i Ostrožac) (2020-2023) | C74: Do 2023.g. najmanje 350 korisnika priključeno na kanalizacionu mrežu | D74: 200000 | E74: =SUM(I74+U74) -> 122000 | F74: 7000 | G74: 20000 | H74: 20000 | I74: =SUM(F74:H74) -> 47000 | J74: 0 | K74: 0 | L74: 0 | M74: 0 | N74: 0 | O74: 0 | P74: 0 | Q74: 0 | R74: =SUM(J74:Q74) -> 0 | S74: 25000 | T74: 50000 | U74: =SUM(R74:T74) -> 75000 | V74: Služba za upravu za prostorno uređenje, građenje, zaštitu okoline, stambeno-komunalne poslove | W74: Kapitalni transferi 615000 / JP EP BiH | X74: Služba za upravu za prostorno uređenje, građenje, zaštitu okoline, stambeno-komunalne poslove | Y74: 2020 (C) | Z74: SO
A75: SC3/SEC3.1 | B75: 3.1.1.6. Projekat: Izgradnja kanalizacionog sistema na Zlatama (2019-2023) | C75: Do 2023.g. najmanje 250 korisnika priključeno na kanalizacionu mrežu | D75: 400000 | E75: =SUM(I75+U75) -> 165000 | F75: 15000 | G75: 15000 | H75: 15000 | I75: =SUM(F75:H75) -> 45000 | J75: 0 | K75: 40000 | L75: 0 | M75: 0 | N75: 0 | O75: 0 | P75: 0 | Q75: 0 | R75: =SUM(J75:Q75) -> 40000 | S75: 40000 | T75: 40000 | U75: =SUM(R75:T75) -> 120000 | V75: Služba za upravu za prostorno uređenje, građenje, zaštitu okoline, stambeno-komunalne poslove | W75: Kapitalni transferi 615000 / Ministarstvo poljoprivrede, šumarstva i vodoprivrede HNK | X75: Služba za upravu za prostorno uređenje, građenje, zaštitu okoline, stambeno-komunalne poslove | Y75: 2019 (C) | Z75: SO
A76: SC3/SEC3.1 | B76: 3.1.1.7. Projekat: Završetak izgradnje kanalizacije Slatina (2019-2023) | C76: Do 2023.g. najmanje 300 korisnika priključeno na kanalizacionu mrežu | D76: 300000 | E76: =SUM(I76+U76) -> 180000 | F76: 0 | G76: 0 | H76: 0 | I76: =SUM(F76:H76) -> 0 | J76: 0 | K76: 0 | L76: 0 | M76: 0 | N76: 0 | O76: 0 | P76: 0 | Q76: 60000 | R76: =SUM(J76:Q76) -> 60000 | S76: 60000 | T76: 60000 | U76: =SUM(R76:T76) -> 180000 | V76: Služba za upravu za prostorno uređenje, građenje, zaštitu okoline, stambeno-komunalne poslove | W76: Kapitalni transferi 615000 / Ministarstvo poljoprivrede, šumarstva i vodoprivrede HNK | X76: Služba za upravu za prostorno uređenje, građenje, zaštitu okoline, stambeno-komunalne poslove | Y76: 2019 (C) | Z76: SO
A77: SC3/SEC3.1 | B77: 3.1.2.1. Projekat: Izgradnja podzemnih kontejnerskih mjesta (2020-2023) | C77: Do 2023.g. na dnevnoj osnovi se prikupi 13,2 m3 krutog otpada putem podzemnih kontejnera. | D77: 120000 | E77: =SUM(I77+U77) -> 80000 | F77: 0 | G77: 20000 | H77: 30000 | I77: =SUM(F77:H77) -> 50000 | J77: 0 | K77: 0 | L77: 0 | M77: 0 | N77: 0 | O77: 0 | P77: 0 | Q77: 0 | R77: =SUM(J77:Q77) -> 0 | S77: 15000 | T77: 15000 | U77: =SUM(R77:T77) -> 30000 | V77: Služba za upravu za prostorno uređenje, građenje, zaštitu okoline, stambeno-komunalne poslove | W77: Kapitalni transferi 615000 / Ministarstvo trgovine, turizma i zaštite okoliša HNK | X77: Služba za upravu za prostorno uređenje, građenje, zaštitu okoline, stambeno-komunalne poslove | Y77: 2020 (A) | Z77: SO
A78: SC3/SEC3.1 | B78: 3.1.2.2. Projekat: Zatvaranje gradske deponije (2019-2021) | C78: Do 2021.g. kruti otpad se ne odlaže na lokalnoj gradskoj deponiji | D78: 1000000 | E78: =SUM(I78+U78) -> 800000 | F78: 0 | G78: 250000 | H78: 250000 | I78: =SUM(F78:H78) -> 500000 | J78: 0 | K78: 0 | L78: 0 | M78: 0 | N78: 0 | O78: 0 | P78: 0 | Q78: 0 | R78: =SUM(J78:Q78) -> 0 | S78: 200000 | T78: 100000 | U78: =SUM(R78:T78) -> 300000 | V78: Služba za upravu za prostorno uređenje, građenje, zaštitu okoline, stambeno-komunalne poslove | W78: Kapitalni transferi 615000 / Federalnio ministarstvo okoliša i turizma | X78: Služba za upravu za prostorno uređenje, građenje, zaštitu okoline, stambeno-komunalne poslove | Y78: 2019 (A) | Z78: SO
A79: SC3/SEC3.2 | B79: 3.2.1.2. Projekat: Nastavak zamjene rasvjetnih tijela u MZ Jablanica I (2019-2023) | C79: Do 2023.g. smanjena potrošnja energije za najmanje 10% po jednom rasvjetnom tijelu u odnosu na 2017.g. | D79: 90000 | E79: =SUM(I79+U79) -> 67000 | F79: 7000 | G79: 10000 | H79: 10000 | I79: =SUM(F79:H79) -> 27000 | J79: 0 | K79: 0 | L79: 0 | M79: 0 | N79: 0 | O79: 10000 | P79: 0 | Q79: 0 | R79: =SUM(J79:Q79) -> 10000 | S79: 10000 | T79: 20000 | U79: =SUM(R79:T79) -> 40000 | V79: Služba za upravu za prostorno uređenje, građenje, zaštitu okoline, stambeno-komunalne poslove | W79: Kapitalni transferi 615000 / Federalno ministarstvo okoliša i turizma | X79: Služba za upravu za prostorno uređenje, građenje, zaštitu okoline, stambeno-komunalne poslove | Y79: 2019 (C) | Z79: SO
A80: SC3/SEC3.2 | B80: 3.2.1.3. Projekat: Zamjena rasvjetnih tijela u MZ Jablanica II (2019-2023) | C80: Do 2023.g. smanjena potrošnja energije za najmanje 10% po jednom rasvjetnom tijelu u odnosu na 2017.g. | D80: 110000 | E80: =SUM(I80+U80) -> 57000 | F80: 7000 | G80: 10000 | H80: 10000 | I80: =SUM(F80:H80) -> 27000 | J80: 0 | K80: 0 | L80: 0 | M80: 0 | N80: 0 | O80: 10000 | P80: 0 | Q80: 0 | R80: =SUM(J80:Q80) -> 10000 | S80: 10000 | T80: 10000 | U80: =SUM(R80:T80) -> 30000 | V80: Služba za upravu za prostorno uređenje, građenje, zaštitu okoline, stambeno-komunalne poslove | W80: Kapitalni transferi 615000 / Federalno ministarstvo okoliša i turizma | X80: Služba za upravu za prostorno uređenje, građenje, zaštitu okoline, stambeno-komunalne poslove | Y80: 2019 (C) | Z80: SO
A81: SC3/SEC3.3 | B81: 3.3.1.1. Projekat: Izrada projekata i studije opravdanosti izgradnje podzemne garaže Rasadnik (2019 - 2020) | C81: Do 2020.g. projekat i studija opravdanosti izgradnje podzemne garaže Rasadnik odobren od strane Općinskog vijeća. | D81: 20000 | E81: =SUM(I81+U81) -> 20000 | F81: 20000 | G81: 0 | H81: 0 | I81: =SUM(F81:H81) -> 20000 | J81: 0 | K81: 0 | L81: 0 | M81: 0 | N81: 0 | O81: 0 | P81: 0 | Q81: 0 | R81: =SUM(J81:Q81) -> 0 | S81: 0 | T81: 0 | U81: =SUM(R81:T81) -> 0 | V81: Služba za upravu za prostorno uređenje, građenje, zaštitu okoline, stambeno-komunalne poslove | W81: Kapitalni transferi 615000 | X81: Služba za upravu za prostorno uređenje, građenje, zaštitu okoline, stambeno-komunalne poslove | Y81: 2019 | Z81: SO
A82: SC3/SEC3.3 | B82: 3.3.1.2. Uređenje Trga oslobođenja (2019-2023) | C82: Do 2023.g. na praking prostoru na lokaciji Trga uspostavljen sistem naplate parkiranja. | D82: 300000 | E82: =SUM(I82+U82) -> 210000 | F82: 90000 | G82: 60000 | H82: 60000 | I82: =SUM(F82:H82) -> 210000 | J82: 0 | K82: 0 | L82: 0 | M82: 0 | N82: 0 | O82: 0 | P82: 0 | Q82: 0 | R82: =SUM(J82:Q82) -> 0 | S82: 0 | T82: 0 | U82: =SUM(R82:T82) -> 0 | V82: Služba za upravu za prostorno uređenje, građenje, zaštitu okoline, stambeno-komunalne poslove | W82: Kapitalni transferi 615000 | X82: Služba za upravu za prostorno uređenje, građenje, zaštitu okoline, stambeno-komunalne poslove | Y82: 2019 | Z82: SO
A83: SC3/SEC3.3 | B83: 3.3.1.3. Projekat: Uređenje trotoara, parking prostora i dvorišta (2019-2023) | C83: Do 2023.g. na praking prostoru na užoj gradskoj lokaciji uspostavljen sistem naplate parkiranja. | D83: 400000 | E83: =SUM(I83+U83) -> 240000 | F83: 80000 | G83: 80000 | H83: 80000 | I83: =SUM(F83:H83) -> 240000 | J83: 0 | K83: 0 | L83: 0 | M83: 0 | N83: 0 | O83: 0 | P83: 0 | Q83: 0 | R83: =SUM(J83:Q83) -> 0 | S83: 0 | T83: 0 | U83: =SUM(R83:T83) -> 0 | V83: Služba za upravu za prostorno uređenje, građenje, zaštitu okoline, stambeno-komunalne poslove | W83: Kapitalni transferi 615000 | X83: Služba za upravu za prostorno uređenje, građenje, zaštitu okoline, stambeno-komunalne poslove | Y83: 2019 | Z83: SO
A84: SC3/SEC3.3 | B84: 3.3.1.4. Proejakt: Uređenje Trga Alije Izetbegovića (2019-2023) | C84: Do 2023.g. na Trgu Alije Izetbegovića se godišnje organizira najmanje 5 kulturno-zabavnih događaja. Do 2023.g. uspostavljen sistem naplate podzemnih parking prostora | D84: 1000000 | E84: =SUM(I84+U84) -> 340000 | F84: 40000 | G84: 100000 | H84: 200000 | I84: =SUM(F84:H84) -> 340000 | J84: 0 | K84: 0 | L84: 0 | M84: 0 | N84: 0 | O84: 0 | P84: 0 | Q84: 0 | R84: =SUM(J84:Q84) -> 0 | S84: 0 | T84: 0 | U84: =SUM(R84:T84) -> 0 | V84: Služba za upravu za prostorno uređenje, građenje, zaštitu okoline, stambeno-komunalne poslove | W84: Kapitalni transferi 615000 | X84: Služba za upravu za prostorno uređenje, građenje, zaštitu okoline, stambeno-komunalne poslove | Y84: 2019 | Z84: SO
A85: SC3/SEC3.3 | B85: 3.3.1.5. Projekat: Uređenje gradskog parka (2019-2021) | C85: Do 2023.g. park posjeti najmanje 30000 posjetilaca na godišnjem nivou. | D85: 300000 | E85: =SUM(I85+U85) -> 300000 | F85: 35000 | G85: 90000 | H85: 0 | I85: =SUM(F85:H85) -> 125000 | J85: 0 | K85: 55000 | L85: 0 | M85: 0 | N85: 0 | O85: 0 | P85: 30000 | Q85: 0 | R85: =SUM(J85:Q85) -> 85000 | S85: 30000 | T85: 60000 | U85: =SUM(R85:T85) -> 175000 | V85: Služba za upravu za prostorno uređenje, građenje, zaštitu okoline, stambeno-komunalne poslove | W85: Kapitalni transferi 615000 / Federalno ministarstvo okoliša i turizma / Ministarstvo trgovine, turizma i zaštite okoliša HNK | X85: Služba za upravu za prostorno uređenje, građenje, zaštitu okoline, stambeno-komunalne poslove | Y85: 2019 (D) | Z85: SO
A86: SC3/SEC3.3 | B86: 3.3.1.6. Projekat: „Rekonstrukcija“ postojećih i uspostava novih drvoreda (2019-2023) | C86: Do 2023.g. sve zelene površine predviđene regulacionim planovima gradskog područja su stavljene u funkciju. | D86: 50000 | E86: =SUM(I86+U86) -> 35000 | F86: 10000 | G86: 5000 | H86: 5000 | I86: =SUM(F86:H86) -> 20000 | J86: 0 | K86: 5000 | L86: 0 | M86: 0 | N86: 0 | O86: 0 | P86: 0 | Q86: 0 | R86: =SUM(J86:Q86) -> 5000 | S86: 5000 | T86: 5000 | U86: =SUM(R86:T86) -> 15000 | V86: Služba za upravu za prostorno uređenje, građenje, zaštitu okoline, stambeno-komunalne poslove | W86: Kapitalni transferi 615000 / Federalno ministarstvo okoliša i turizma / Ministarstvo trgovine, turizma i zaštite okoliša HNK | X86: Služba za upravu za prostorno uređenje, građenje, zaštitu okoline, stambeno-komunalne poslove | Y86: 2019 (D) | Z86: SO
A87: SC3/SEC3.3 | B87: 3.3.1.7. Projekat: Izgradnja mrtvačnice (2019-2021) | C87: Do 2023.g. najmanje 50% svih ukopa na području općine Jablanica vrši se putem pogrebnog preduzeća koje upravlja mrtvačnicom. | D87: 70000 | E87: =SUM(I87+U87) -> 70000 | F87: 20000 | G87: 25000 | H87: 25000 | I87: =SUM(F87:H87) -> 70000 | J87: 0 | K87: 0 | L87: 0 | M87: 0 | N87: 0 | O87: 0 | P87: 0 | Q87: 0 | R87: =SUM(J87:Q87) -> 0 | S87: 0 | T87: 0 | U87: =SUM(R87:T87) -> 0 | V87: Služba za upravu za prostorno uređenje, građenje, zaštitu okoline, stambeno-komunalne poslove | W87: Kapitalni transferi 615000 | X87: Služba za upravu za prostorno uređenje, građenje, zaštitu okoline, stambeno-komunalne poslove | Y87: 2019 | Z87: SO
J89: 0 | K89: 0 | L89: 0 | M89: 0 | N89: 0 | O89: 0 | P89: 0 | Q89: 0 | R89: =SUM(J89:Q89) -> 0 | S89: 0 | T89: 0 | U89: =SUM(R89:T89) -> 0
E90: =SUM(I90+U90) -> 0 | I90: =SUM(F90:H90) -> 0 | R90: =SUM(J90:Q90) -> 0 | U90: =SUM(R90:T90) -> 0
A91: U K U P N O: | D91: =SUM(D7:D90) -> 18614100 | E91: =SUM(E7:E90) -> 13177700 | F91: =SUM(F7:F90) -> 1491500 | G91: =SUM(G7:G90) -> 1703500 | H91: =SUM(H7:H90) -> 1856000 | I91: =SUM(I7:I90) -> 5051000 | J91: =SUM(J7:J90) -> 2600000 | K91: =SUM(K7:K90) -> 530000 | ... U91: =SUM(U7:U90) -> 8126700
A93: KLASIFIKACIJA PROJEKATA | C93: A-projekti za koje nema ideje od kuda bi se mogli finansirati;
A94: (koji su predviđeni za finansiranje dijelom ili u potpunosti iz eksternih izvora) | C94: B-projekti za koje ima ideje ko bi mogao biti donator ali nije napravljen projektni prijedlog i nije aplicirano;
C95: C-projekti za koje ima ideja ko bi mogao biti donator, za koje je napravljen projektni prijedlog i aplicirano je ali nema povratne informacije;
C96: D-projekti za koje ima ideja ko bi mogao biti donator, za koje je napravljen projektni prijedlog i aplicirano je te je dobivena povratna informacija o finansiranju;
C97: E-projekti za koje je u pisanoj formi potvrđeno finansiranje i osigurana sredstva.

Sheet Ukupno po sektorima
B2: REKAPITULACIJA PO SEKTORIMA (Plan Implementacije I + II + III god.)
B3: Sektor | C3: Ukupni orijent. izdaci (do završetka projekta) | D3: Ukupni predviđeni izdaci (za III godine) | E3: Finansiranje iz budžeta JLS | I3: Finansiranje iz ostalih izvora | U3: Broj projekata
E4: Pregled po godinama | I4: Struktura ostalih izvora za I.god. | Q4: Pregled ostalih izvora po godinama
E5: god. I | F5: god. II | G5: god. III | H5: ukupno (I+II+III) | I5: Kredit | J5: Entitet Kanton | K5: Država | L5: Javna poduzeca | M5: Privatni izvori | N5: IPA | O5: Donatori | P5: Ostalo | Q5: god. I | R5: god. II | S5: god. III | T5: ukupno (I+II+III)
B7: Ekonomski sektor | C7: =SUMIF('Plan 2019-2021'!$Z7:$Z90,"ES",'Plan 2019-2021'!D7:D90) -> 8420000 | D7: =SUMIF('Plan 2019-2021'!$Z7:$Z90,"ES",'Plan 2019-2021'!E7:E90) -> 6338000 | E7: =SUMIF('Plan 2019-2021'!$Z7:$Z90,"ES",'Plan 2019-2021'!F7:F90) -> 506000 | F7: =SUMIF('Plan 2019-2021'!$Z7:$Z90,"ES",'Plan 2019-2021'!G7:G90) -> 595000 | G7: =SUMIF('Plan 2019-2021'!$Z7:$Z90,"ES",'Plan 2019-2021'!H7:H90) -> 753000 | H7: =SUMIF('Plan 2019-2021'!$Z7:$Z90,"ES",'Plan 2019-2021'!I7:I90) -> 1854000 | I7: =SUMIF('Plan 2019-2021'!$Z7:$Z90,"ES",'Plan 2019-2021'!J7:J90) -> 2000000 | J7: =SUMIF('Plan 2019-2021'!$Z7:$Z90,"ES",'Plan 2019-2021'!K7:K90) -> 390000 | ... T7: =SUMIF('Plan 2019-2021'!$Z7:$Z90,"ES",'Plan 2019-2021'!U7:U90) -> 4484000 | U7: =COUNTIF('Plan 2019-2021'!$Z7:$Z90,"ES") -> 22
B8: Društveni sektor | C8: =SUMIF('Plan 2019-2021'!$Z7:$Z90,"DS",'Plan 2019-2021'!D7:D90) -> 4559100 | D8: =SUMIF('Plan 2019-2021'!$Z7:$Z90,"DS",'Plan 2019-2021'!E7:E90) -> 3403700 | E8: =SUMIF('Plan 2019-2021'!$Z7:$Z90,"DS",'Plan 2019-2021'!F7:F90) -> 654500 | F8: =SUMIF('Plan 2019-2021'!$Z7:$Z90,"DS",'Plan 2019-2021'!G7:G90) -> 383500 | G8: =SUMIF('Plan 2019-2021'!$Z7:$Z90,"DS",'Plan 2019-2021'!H7:H90) -> 358000 | H8: =SUMIF('Plan 2019-2021'!$Z7:$Z90,"DS",'Plan 2019-2021'!I7:I90) -> 1396000 | I8: =SUMIF('Plan 2019-2021'!$Z7:$Z90,"DS",'Plan 2019-2021'!J7:J90) -> 600000 | J8: =SUMIF('Plan 2019-2021'!$Z7:$Z90,"DS",'Plan 2019-2021'!K7:K90) -> 0 | ... T8: =SUMIF('Plan 2019-2021'!$Z7:$Z90,"DS",'Plan 2019-2021'!U7:U90) -> 2007700 | U8: =COUNTIF('Plan 2019-2021'!$Z7:$Z90,"DS") -> 41
B9: Sektor okoliša /zaštite životne sredine | C9: =SUMIF('Plan 2019-2021'!$Z7:$Z90,"SO",'Plan 2019-2021'!D7:D90) -> 5635000 | D9: =SUMIF('Plan 2019-2021'!$Z7:$Z90,"SO",'Plan 2019-2021'!E7:E90) -> 3436000 | E9: =SUMIF('Plan 2019-2021'!$Z7:$Z90,"SO",'Plan 2019-2021'!F7:F90) -> 331000 | F9: =SUMIF('Plan 2019-2021'!$Z7:$Z90,"SO",'Plan 2019-2021'!G7:G90) -> 725000 | G9: =SUMIF('Plan 2019-2021'!$Z7:$Z90,"SO",'Plan 2019-2021'!H7:H90) -> 745000 | H9: =SUMIF('Plan 2019-2021'!$Z7:$Z90,"SO",'Plan 2019-2021'!I7:I90) -> 1801000 | I9: =SUMIF('Plan 2019-2021'!$Z7:$Z90,"SO",'Plan 2019-2021'!J7:J90) -> 0 | J9: =SUMIF('Plan 2019-2021'!$Z7:$Z90,"SO",'Plan 2019-2021'!K7:K90) -> 140000 | ... T9: =SUMIF('Plan 2019-2021'!$Z7:$Z90,"SO",'Plan 2019-2021'!U7:U90) -> 1635000 | U9: =COUNTIF('Plan 2019-2021'!$Z7:$Z90,"SO") -> 18
B10: U K U P N O | C10: =SUM(C7:C9) -> 18614100 | D10: =SUM(D7:D9) -> 13177700 | E10: =SUM(E7:E9) -> 1491500 | F10: =SUM(F7:F9) -> 1703500 | G10: =SUM(G7:G9) -> 1856000 | H10: =SUM(H7:H9) -> 5051000 | I10: =SUM(I7:I9) -> 2600000 | J10: =SUM(J7:J9) -> 530000 | ... U10: =SUM(U7:U9) -> 81
B12: Napomena: Podaci u tabeli "Rekapitulacija" računaju se ispravno ukoliko su u pomoćnu kolonu "Plana Implementacije" pravilno unešene oznake sektora (na sljedeći način: ES, DS, SO).

Sheet Ukupno po godinama
B2: Rekapitulacija po godinama (Plan Implementacije I + II + III god.)
B3: Sektor | C3: Ukupno I god. | D3: Finansiranje iz budžeta JLS | E3: Finansiranje iz ostalih izvora
B6: Ekonomski sektor | C6: =D6+E6 -> 3476000 | D6: ='Ukupno po sektorima'!$E$7 -> 506000 | E6: ='Ukupno po sektorima'!Q7 -> 2970000
B7: Društveni sektor | C7: =D7+E7 -> 2034200 | D7: ='Ukupno po sektorima'!$E$8 -> 654500 | E7: ='Ukupno po sektorima'!Q8 -> 1379700
B8: Sektor okoliša / zaštite životne sredine | C8: =D8+E8 -> 681000 | D8: ='Ukupno po sektorima'!$E$9 -> 331000 | E8: ='Ukupno po sektorima'!Q9 -> 350000
B9: Ukupno | C9: =SUM(C6:C8) -> 6191200 | D9: =SUM(D6:D8) -> 1491500 | E9: =SUM(E6:E8) -> 4699700
B10: Sektor | C10: Ukupno II god. | D10: Finansiranje iz budžeta JLS | E10: Finansiranje iz ostalih izvora
B13: Ekonomski sektor | C13: =D13+E13 -> 1537000 | D13: ='Ukupno po sektorima'!$F$7 -> 595000 | E13: ='Ukupno po sektorima'!R7 -> 942000
B14: Društveni sektor | C14: =D14+E14 -> 690500 | D14: ='Ukupno po sektorima'!$F$8 -> 383500 | E14: ='Ukupno po sektorima'!R8 -> 307000
B15: Sektor okoliša / zaštite životne sredine | C15: =D15+E15 -> 1360000 | D15: ='Ukupno po sektorima'!$F$9 -> 725000 | E15: ='Ukupno po sektorima'!R9 -> 635000
B16: Ukupno | C16: =SUM(C13:C15) -> 3587500 | D16: =SUM(D13:D15) -> 1703500 | E16: =SUM(E13:E15) -> 1884000
B17: Sektor | C17: Ukupno III god. | D17: Finansiranje iz budžeta JLS | E17: Finansiranje iz ostalih izvora
B20: Ekonomski sektor | C20: =D20+E20 -> 1325000 | D20: ='Ukupno po sektorima'!$G$7 -> 753000 | E20: ='Ukupno po sektorima'!S7 -> 572000
B21: Društveni sektor | C21: =D21+E21 -> 679000 | D21: ='Ukupno po sektorima'!$G$8 -> 358000 | E21: ='Ukupno po sektorima'!S8 -> 321000
B22: Sektor okoliša / zaštite životne sredine | C22: =D22+E22 -> 1395000 | D22: ='Ukupno po sektorima'!$G$9 -> 745000 | E22: ='Ukupno po sektorima'!S9 -> 650000
B23: Ukupno | C23: =SUM(C20:C22) -> 3399000 | D23: =SUM(D20:D22) -> 1856000 | E23: =SUM(E20:E22) -> 1543000
B25: U K U P N O (I + II + III) | C25: =C9+C16+C23 -> 13177700 | D25: =D9+D16+D23 -> 5051000 | E25: =E9+E16+E23 -> 8126700

Sheet Ukupno po A-E klasama
B2: REKAPITULACIJA PO IZVORIMA FINANSIRANJA (Plan Implementacije I + II + III god.)
B3: Vrsta | C3: Projekti | E3: Ukupni predviđeni izdaci (za III godine) | G3: Finansiranje iz budžeta JLS | K3: Finansiranje iz ostalih izvora
G4: Pregled po godinama | K4: Pregled ostalih izvora po godinama
C5: Broj projekata | D5: % od svih | E5: Vrijednost | F5: % od ukupno | G5: god. I | H5: god. II | I5: god. III | J5: ukupno (I+II+III) | K5: god. I | L5: god. II | M5: god. III | N5: ukupno (I+II+III)
B7: A- projekti za koje nema ideje od kuda bi se mogli finansirati; | C7: =COUNTIF('Plan 2019-2021'!$Y7:$Y90,"*A*") -> 11 | D7: =C7/C$13 -> 0.13580247 | E7: =SUMIF('Plan 2019-2021'!$Y7:$Y90,"*A*",'Plan 2019-2021'!E7:E90) -> 1317000 | F7: =E7/E$13 -> 0.099941568 | G7: =SUMIF('Plan 2019-2021'!$Y7:$Y90,"*A*",'Plan 2019-2021'!F7:F90) -> 31000 | H7: =SUMIF('Plan 2019-2021'!$Y7:$Y90,"*A*",'Plan 2019-2021'!G7:G90) -> 336000 | I7: =SUMIF('Plan 2019-2021'!$Y7:$Y90,"*A*",'Plan 2019-2021'!H7:H90) -> 317000 | J7: =SUM(G7:I7) -> 684000 | K7: =SUMIF('Plan 2019-2021'!$Y7:$Y90,"*A*",'Plan 2019-2021'!R7:R90) -> 60000 | L7: =SUMIF('Plan 2019-2021'!$Y7:$Y90,"*A*",'Plan 2019-2021'!S7:S90) -> 324000 | M7: =SUMIF('Plan 2019-2021'!$Y7:$Y90,"*A*",'Plan 2019-2021'!T7:T90) -> 249000 | N7: =SUM(K7:M7) -> 633000
B8: B- projekti za koje ima ideje ko bi mogao biti donator ali nije napravljen projektni prijedlog i nije aplicirano; | C8: =COUNTIF('Plan 2019-2021'!$Y7:$Y90,"*B*") -> 6 | D8: =C8/C$13 -> 0.074074074 | E8: =SUMIF('Plan 2019-2021'!$Y7:$Y90,"*B*",'Plan 2019-2021'!E7:E90) -> 232000 | F8: =E8/E$13 -> 0.0176055 | G8: =SUMIF('Plan 2019-2021'!$Y7:$Y90,"*B*",'Plan 2019-2021'!F7:F90) -> 20000 | H8: =SUMIF('Plan 2019-2021'!$Y7:$Y90,"*B*",'Plan 2019-2021'!G7:G90) -> 35000 | I8: =SUMIF('Plan 2019-2021'!$Y7:$Y90,"*B*",'Plan 2019-2021'!H7:H90) -> 42000 | J8: =SUM(G8:I8) -> 97000 | K8: =SUMIF('Plan 2019-2021'!$Y7:$Y90,"*B*",'Plan 2019-2021'!R7:R90) -> 38000 | L8: =SUMIF('Plan 2019-2021'!$Y7:$Y90,"*B*",'Plan 2019-2021'!S7:S90) -> 44000 | M8: =SUMIF('Plan 2019-2021'!$Y7:$Y90,"*B*",'Plan 2019-2021'!T7:T90) -> 53000 | N8: =SUM(K8:M8) -> 135000
B9: C-projekti za koje ima ideja ko bi mogao biti donator i za koje je napravljen projektni prijedlog i aplicirano je ali nema nikakve povratne informacije; | C9: =COUNTIF('Plan 2019-2021'!$Y7:$Y90,"*C*") -> 16 | D9: =C9/C$13 -> 0.19753086 | E9: =SUMIF('Plan 2019-2021'!$Y7:$Y90,"*C*",'Plan 2019-2021'!E7:E90) -> 2364000 | F9: =E9/E$13 -> 0.17939398 | G9: =SUMIF('Plan 2019-2021'!$Y7:$Y90,"*C*",'Plan 2019-2021'!F7:F90) -> 100000 | H9: =SUMIF('Plan 2019-2021'!$Y7:$Y90,"*C*",'Plan 2019-2021'!G7:G90) -> 254000 | I9: =SUMIF('Plan 2019-2021'!$Y7:$Y90,"*C*",'Plan 2019-2021'!H7:H90) -> 254000 | J9: =SUM(G9:I9) -> 608000 | K9: =SUMIF('Plan 2019-2021'!$Y7:$Y90,"*C*",'Plan 2019-2021'!R7:R90) -> 487000 | L9: =SUMIF('Plan 2019-2021'!$Y7:$Y90,"*C*",'Plan 2019-2021'!S7:S90) -> 567000 | M9: =SUMIF('Plan 2019-2021'!$Y7:$Y90,"*C*",'Plan 2019-2021'!T7:T90) -> 702000 | N9: =SUM(K9:M9) -> 1756000
B10: D- projekti za koje ima ideja ko bi mogao biti donator i za koje je napravljen projektni prijedlog i aplicirano je te je dobijena potvrdna povratna informacija o finansiranju; | C10: =COUNTIF('Plan 2019-2021'!$Y7:$Y90,"*D*") -> 10 | D10: =C10/C$13 -> 0.12345679 | E10: =SUMIF('Plan 2019-2021'!$Y7:$Y90,"*D*",'Plan 2019-2021'!E7:E90) -> 1835700 | F10: =E10/E$13 -> 0.13930352 | G10: =SUMIF('Plan 2019-2021'!$Y7:$Y90,"*D*",'Plan 2019-2021'!F7:F90) -> 172000 | H10: =SUMIF('Plan 2019-2021'!$Y7:$Y90,"*D*",'Plan 2019-2021'!G7:G90) -> 135000 | I10: =SUMIF('Plan 2019-2021'!$Y7:$Y90,"*D*",'Plan 2019-2021'!H7:H90) -> 140000 | J10: =SUM(G10:I10) -> 447000 | K10: =SUMIF('Plan 2019-2021'!$Y7:$Y90,"*D*",'Plan 2019-2021'!R7:R90) -> 790700 | L10: =SUMIF('Plan 2019-2021'!$Y7:$Y90,"*D*",'Plan 2019-2021'!S7:S90) -> 284000 | M10: =SUMIF('Plan 2019-2021'!$Y7:$Y90,"*D*",'Plan 2019-2021'!T7:T90) -> 314000 | N10: =SUM(K10:M10) -> 1388700
B11: E - projekti za koje je u pisanoj formi potvrđeno finansiranje i osigurana sredstva; | C11: =COUNTIF('Plan 2019-2021'!$Y6:$Y89,"*E*") -> 11 | D11: =C11/C$13 -> 0.13580247 | E11: =SUMIF('Plan 2019-2021'!$Y7:$Y90,"*E*",'Plan 2019-2021'!E7:E90) -> 4740000 | F11: =E11/E$13 -> 0.35969858 | G11: =SUMIF('Plan 2019-2021'!$Y7:$Y90,"*E*",'Plan 2019-2021'!F7:F90) -> 392000 | H11: =SUMIF('Plan 2019-2021'!$Y7:$Y90,"*E*",'Plan 2019-2021'!G7:G90) -> 102000 | I11: =SUMIF('Plan 2019-2021'!$Y7:$Y90,"*E*",'Plan 2019-2021'!H7:H90) -> 132000 | J11: =SUM(G11:I11) -> 626000 | K11: =SUMIF('Plan 2019-2021'!$Y7:$Y90,"*E*",'Plan 2019-2021'!R7:R90) -> 3324000 | L11: =SUMIF('Plan 2019-2021'!$Y7:$Y90,"*E*",'Plan 2019-2021'!S7:S90) -> 665000 | M11: =SUMIF('Plan 2019-2021'!$Y7:$Y90,"*E*",'Plan 2019-2021'!T7:T90) -> 125000 | N11: =SUM(K11:M11) -> 4114000
B12: Projekti koji se u potpunosti finansiraju iz budzeta JLS. | C12: =COUNTIF('Plan 2019-2021'!$Y7:$Y90,">0") -> 27 | D12: =C12/C$13 -> 0.33333333 | E12: =SUMIF('Plan 2019-2021'!$Y7:$Y90,">0",'Plan 2019-2021'!E7:E90) -> 2689000 | F12: =E12/E$13 -> 0.20405685 | G12: =SUMIF('Plan 2019-2021'!$Y7:$Y90,">0",'Plan 2019-2021'!F7:F90) -> 776500 | H12: =SUMIF('Plan 2019-2021'!$Y7:$Y90,">0",'Plan 2019-2021'!G7:G90) -> 841500 | I12: =SUMIF('Plan 2019-2021'!$Y7:$Y90,">0",'Plan 2019-2021'!H7:H90) -> 971000 | J12: =SUM(G12:I12) -> 2589000 | K12: =SUMIF('Plan 2019-2021'!$Y7:$Y90,">0",'Plan 2019-2021'!R7:R90) -> 0 | L12: =SUMIF('Plan 2019-2021'!$Y7:$Y90,">0",'Plan 2019-2021'!S7:S90) -> 0 | M12: =SUMIF('Plan 2019-2021'!$Y7:$Y90,">0",'Plan 2019-2021'!T7:T90) -> 100000 | N12: =SUM(K12:M12) -> 100000
B13: U K U P N O | C13: =SUM(C7:C12) -> 81 | D13: =SUM(D7:D12) -> 1 | E13: =SUM(E7:E12) -> 13177700 | F13: =SUM(F7:F12) -> 1 | G13: =SUM(G7:G12) -> 1491500 | H13: =SUM(H7:H12) -> 1703500 | I13: =SUM(I7:I12) -> 1856000 | J13: =SUM(G13:I13) -> 5051000 | K13: =SUM(K7:K12) -> 4699700 | L13: =SUM(L7:L12) -> 1884000 | M13: =SUM(M7:M12) -> 1543000 | N13: =SUM(K13:M13) -> 8126700
B15: Napomena: Podaci u tabeli "Rekapitulacija" računaju se ispravno ukoliko su u pomoćnu kolonu "Plana Implementacije" pravilno unešene godine te oznake "A-E" klasifikacije, npr. "2015 (D)". Za projekte koji se u cijelosti finsiraju iz budzeta unosi se samo godina početka projekta a ne unosi se oznaka "A-E" klasifikacije.
