Workbook

Sheet Upute
A2: VAŽNE NAPOMENE !
A3: Tabela "Plan 20xx - 20xx":
A4: Ukoliko je broj redova (za projekte i mjere) nedovoljan u tabeli "Plan 20xx-20xx", željeni broj novih redova se unosi ("Insert") tako što se pozicionira na pretposljednji red u tabeli (označen sivom bojom) te se unesu novi redovi (desni klik mišem + insert). Unošenjem novih redova na ovaj način se osigurava "veza" tabele "Plan 20xx-20xx" i pomoćnih tabela "Ukupno po sektorima" i "Ukupno po godinama" te omogućava ispravan pregled kumulativnih podataka u pomoćnim tabelama.
A5: Nakon što se u tabelu "Plan 20xx-20xx" unesu novi redovi potrebno je u kolone 5, 9, 19, 21 (označene plavom bojom) kopirati relevantne formule za računanje zbira (pozicioniranjem mišem na polje koje sadrži formulu koja se želi kopirati + Ctrl C te kopiranje u željeno polje + Ctrl V).
A6: FORMULE NE TREBA BRISATI ILI PODATKE RUČNO UNOSITI U POLJA PREDVIĐENA ZA FORMULE !
A7: Pomoćne tabele
A8: Da bi se kumulativni podaci u pomoćnim tabelama "Ukupno po sektorima", "Ukupno po godinama" i "Ukupno po A-E klasifikaciji " ispravno prikazali (ili izračunali) potrebno je da se u tabelu "Plan 20xx-20xx" unesu odgovarajuće oznake sektora (na sljedeći način: ES, DS, SO), oznake godina i oznake A-E klasifikacije.
A9: Kako bi se osiguralo da se formule u pomoćnim tabelama ne poremete ili slučajno obrišu ove tabele su zaštičene ("zaključane"). U slučaju potrebe za izmjenama možete kontaktirati terensku kancelariju ILDP projekta.
A10: Kopiranje grafikona iz pomoćnih tabela u ostale dokumente
A11: Svi grafikoni iz pomoćnih tabela mogu se kopirati (copy/paste metodom) u ostale dokumente pripremljene u MS Word-u, Power point-u ili Excelu.

Sheet Plan 2019-2021
A1: Općina : Jablanica | D1: Plan implementacije i indikativni finansijski okvir za 2019-2021
A2: Veza sa strateškim i sektorskim ciljem/ ciljevima | B2: Projekat / mjera (vrijeme trajanja) | C2: Ukupni ishodi | D2: Ukupni orijent. izdaci (do završetka projekta) | E2: Ukupni predviđeni izdaci (za III godine) | F2: Finansiranje iz budžeta JLS | J2: Finansiranje iz ostalih izvora | V2: Nosioci implementacije | W2: Veza sa budžetom i/ili oznaka eksternog izvora finansiranja | X2: Opštinsko odjeljenje/služba odgovorno za praćenje | Y2: Godina početka impl. i A-E klasifikacija | Z2: Oznaka sektora
F3: Pregled po godinama | J3: Struktura ostalih izvora za I.god. | R3: Pregled ostalih izvora po godinama
F4: god. I | G4: god. II | H4: god. III | I4: ukupno (I+II+III) | J4: Kredit | K4: Entitet/Kanton | L4: Država | M4: Javna poduzeca | N4: Privatni izvori | O4: IPA | P4: Donatori | Q4: Ostalo | R4: god. I | S4: god. II | T4: god. III | U4: ukupno (I+II+III)
A6: 1 | B6: 2 | C6: 3 | D6: 4 | E6: 5=9+21 | F6: 6 | G6: 7 | H6: 8 | I6: 9=6+7+8 | J6: 10 | K6: 11 | L6: 12 | M6: 13 | N6: 14 | O6: 15 | P6: 16 | Q6: 17 | R6: 18=Zbir 10-17 | S6: 19 | T6: 20 | U6: 21=18+19+20 | V6: 22 | W6: 23 | X6: 24 | Y6: 25 | Z6: 26
A7: SC1/SEC1.1 | B7: 1.1.1.1. Projekat: Uspostavnjanje centra za obrazovanje stručnih kadrova (2020-2023) | C7: Do 2023.g. obuku uspješno završilo najmanje 200 učenika | D7: 172000 | E7: =SUM(I7+U7) -> 90000 | F7: 0 | G7: 15000 | H7: 15000 | I7: =SUM(F7:H7) -> 30000 | J7: 0 | L7: 0 | M7: 0 | N7: 0 | O7: 0 | P7: 0 | Q7: 0 | R7: =SUM(J7:Q7) -> 0 | S7: 30000 | T7: 30000 | U7: =SUM(R7:T7) -> 60000 | V7: Udruženje poduzetnika Jablanica | W7: Tekući transferi 614000 / Ministarstvo razvoja, poduzetništva i obrta, ILO, UNDP | X7: Služba za lokalni ekonomski razvoj i investicije, finansije i trezor | Y7: 2020 (C) | Z7: ES
A8: SC1/SEC1.1 | B8: 1.1.1.2. Projekat: Jačanje kapaciteta poslovnog inkubatora i klastera kamena (2019-2023) | C8: Do 2023.g. najmanje 50% educiranih polaznika pokrenulo vlastiti biznis ili su proširili postojeće kapacitete biznisa. | D8: 120000 | E8: =SUM(I8+U8) -> 72000 | F8: 12000 | G8: 10000 | H8: 10000 | I8: =SUM(F8:H8) -> 32000 | K8: 20000 | R8: =SUM(J8:Q8) -> 20000 | S8: 20000 | T8: 0 | U8: =SUM(R8:T8) -> 40000 | V8: Udruženje poduzetnika Jablanica | W8: Tekući transferi 614000 / Ministarstvo razvoja, poduzetništva i obrta | X8: Služba za lokalni ekonomski razvoj i investicije, finansije i trezor | Y8: 2019 (E) | Z8: ES
A9: SC1/SEC1.1 | B9: 1.1.2.1. Projekat: Izrada studije opravdanosti eksploatacije i prerade željezne rude (2021) | C9: Do 2021.g. studija opravdanosti eksploatacije i prerade željezne rude odobrena od strane Općinskog vijeća. | D9: 30000 | E9: =SUM(I9+U9) -> 30000 | F9: 0 | G9: 0 | H9: 30000 | I9: =SUM(F9:H9) -> 30000 | J9: 0 | K9: 0 | L9: 0 | M9: 0 | N9: 0 | O9: 0 | P9: 0 | Q9: 0 | R9: =SUM(J9:Q9) -> 0 | S9: 0 | T9: 0 | U9: =SUM(R9:T9) -> 0 | V9: Udruženje poduzetnika Jablanica | W9: Kapitalni transferi 615000 | X9: Služba za lokalni ekonomski razvoj i investicije, finansije i trezor | Y9: 2021 | Z9: ES
A10: SC1/SEC1.1 | B10: 1.1.2.2. Projekat: Izrada studije opravdanosti projekta izgradnje fabrike mineralne-kamene vune (2020) | C10: Do 2021.g. studija opravdanosti projekta izgradnje fabrike mineralne-kamene vune odobrena od strane Općinskog vijeća. | D10: 30000 | E10: =SUM(I10+U10) -> 30000 | F10: 0 | G10: 30000 | H10: 0 | I10: =SUM(F10:H10) -> 30000 | J10: 0 | K10: 0 | L10: 0 | M10: 0 | N10: 0 | O10: 0 | P10: 0 | Q10: 0 | R10: =SUM(J10:Q10) -> 0 | S10: 0 | T10: 0 | U10: =SUM(R10:T10) -> 0 | V10: Udruženje poduzetnika Jablanica | W10: Kapitalni transferi 615000 | X10: Služba za lokalni ekonomski razvoj i investicije, finansije i trezor | Y10: 2020 | Z10: ES
A11: SC1/SEC1.2 | B11: 1.2.1.1. Projekat: Druga šansa (2020-2023) | C11: Do 2023.g. najmanje 30 osoba sa područja općine Jablanica (20 -40 godina) usvojilo znanja i vještine za obavljanje odabranih strukovnih zanimanja u građevinskoj industriji. | D11: 52000 | E11: =SUM(I11+U11) -> 30000 | F11: 0 | G11: 15000 | H11: 15000 | I11: =SUM(F11:H11) -> 30000 | J11: 0 | K11: 0 | L11: 0 | M11: 0 | N11: 0 | O11: 0 | P11: 0 | Q11: 0 | R11: =SUM(J11:Q11) -> 0 | S11: 0 | T11: 0 | U11: =SUM(R11:T11) -> 0 | V11: Udruženje privrednika Jablanice, Srednja škola Jablanica | W11: Tekući transferi 614000 | X11: Služba za lokalni ekonomski razvoj i investicije, finansije i trezor | Y11: 2020 | Z11: ES
A12: SC1/SEC1.2 | B12: 1.2.1.2. Projekat: Informaciono Tehnoloski centar (2019) | C12: Do 2023. educirano najmanje 120 mladih osoba u oblasti IT tehnologija. | D12: 14000 | E12: =SUM(I12+U12) -> 14000 | F12: 6000 | G12: 0 | H12: 0 | I12: =SUM(F12:H12) -> 6000 | J12: 0 | L12: 0 | M12: 0 | N12: 0 | O12: 0 | P12: 8000 | Q12: 0 | R12: =SUM(J12:Q12) -> 8000 | S12: 0 | T12: 0 | U12: =SUM(R12:T12) -> 8000 | V12: Omladinski kulturni centar „UrbanArt“ Jablanica | W12: Tekući transferi 614000 / Ministarstvo razvoja, poduzetništva i obrta | X12: Služba za lokalni ekonomski razvoj i investicije, finansije i trezor | Y12: 2019 (E) | Z12: ES
A13: SC1/SEC1.2 | B13: 1.2.2.1. Projekat: Izrada i donošenje regulacionih planova poslovnih zona (2019-2021) | C13: Do 2021. godine regulacioni planovi zona Donja Jablanica II i Jarište usvojeni od strane Općinskog vijeća. | D13: 30000 | E13: =SUM(I13+U13) -> 30000 | F13: 15000 | G13: 0 | H13: 15000 | I13: =SUM(F13:H13) -> 30000 | J13: 0 | K13: 0 | L13: 0 | M13: 0 | N13: 0 | O13: 0 | P13: 0 | Q13: 0 | R13: =SUM(J13:Q13) -> 0 | S13: 0 | T13: 0 | U13: =SUM(R13:T13) -> 0 | V13: Služba za upravu za prostorno uređenje, građenje, zaštitu okoline, stambeno-komunalne poslove | W13: Kapitalni transferi 615000 | X13: Služba za upravu za prostorno uređenje, građenje, zaštitu okoline, stambeno-komunalne poslove | Y13: 2019 | Z13: ES
A14: SC1/SEC1.2 | B14: 1.2.2.2. Projekat: Izgradnja i opremanje poslovnih zona (2019) | C14: Do 2023.g. popunjeno najmanje 90% kapaciteta poslovne zona na lokalitetu UNIS-a. | D14: 2250000 | E14: =SUM(I14+U14) -> 2250000 | F14: 0 | G14: 0 | H14: 0 | I14: =SUM(F14:H14) -> 0 | J14: 2000000 | K14: 250000 | L14: 0 | M14: 0 | N14: 0 | O14: 0 | P14: 0 | Q14: 0 | R14: =SUM(J14:Q14) -> 2250000 | S14: 0 | T14: 0 | U14: =SUM(R14:T14) -> 2250000 | V14: Služba za lokalni ekonomski razvoj i investicije, finansije i trezor | W14: Kapitalni transferi 820000 / Kredit | X14: Služba za lokalni ekonomski razvoj i investicije, finansije i trezor | Y14: 2019 (E) | Z14: ES
A15: SC1/SEC1.2 | B15: 1.2.2.3. Projekat: Obezbjeđenje industrijske vode za potrebe poslovne zone Donja Jablanica (2021-2023) | C15: Do 2023.g. svi poslovni subjekti poslovne zone donja Jablanica prikljuceni na vodovodnu mrežu industrijske vode. | D15: 1000000 | E15: =SUM(I15+U15) -> 400000 | F15: 0 | G15: 0 | H15: 100000 | I15: =SUM(F15:H15) -> 100000 | J15: 0 | K15: 0 | L15: 0 | M15: 0 | N15: 0 | O15: 0 | P15: 0 | Q15: 0 | R15: =SUM(J15:Q15) -> 0 | S15: 150000 | T15: 150000 | U15: =SUM(R15:T15) -> 300000 | V15: Služba za upravu za prostorno uređenje, građenje, zaštitu okoline, stambeno-komunalne poslove | W15: Kapitalni transferi 615000 / JP EP BiH | X15: Služba za lokalni ekonomski razvoj i investicije, finansije i trezor | Y15: 2021 (D) | Z15: ES
A16: SC1/SEC1.2 | B16: 1.2.2.4. Mjera: Poticaji za MSP-a općine Jablanica (2019-2023) | C16: Do 2023.g. broj MSP i obrta povećan za 10% u odnosu na 2017. g | D16: 850000 | E16: =SUM(I16+U16) -> 510000 | F16: 160000 | G16: 175000 | H16: 175000 | I16: =SUM(F16:H16) -> 510000 | J16: 0 | K16: 0 | L16: 0 | M16: 0 | N16: 0 | O16: 0 | P16: 0 | Q16: 0 | R16: =SUM(J16:Q16) -> 0 | S16: 0 | T16: 0 | U16: =SUM(R16:T16) -> 0 | V16: Služba za lokalni ekonomski razvoj i investicije, finansije i trezor | W16: Tekući transferi 614000 | X16: Služba za lokalni ekonomski razvoj i investicije, finansije i trezor | Y16: 2019 | Z16: ES
A17: SC1/SEC1.2 | B17: 1.2.2.5. Mjera: Subvencioniranje MSP (2020-2023) | C17: Do 2023.g. najmanje 15 MSP uvećalo vrijednost osnovnih i obrtnih sredstava za najmanje 20% u odnosu na 2021. g | D17: 800000 | E17: =SUM(I17+U17) -> 500000 | F17: 0 | G17: 200000 | H17: 200000 | I17: =SUM(F17:H17) -> 400000 | J17: 0 | K17: 0 | L17: 0 | M17: 0 | N17: 0 | O17: 0 | P17: 0 | Q17: 0 | R17: =SUM(J17:Q17) -> 0 | S17: 0 | T17: 100000 | U17: =SUM(R17:T17) -> 100000 | V17: Služba za lokalni ekonomski razvoj i investicije, finansije i trezor | W17: Tekući transferi 614000 | X17: Služba za lokalni ekonomski razvoj i investicije, finansije i trezor | Y17: 2020 | Z17: ES
A18: SC1/SEC1.3 | B18: 1.3.1.1. Projekat: Ulaganje u turističke kapacitete koji se nalaze na Bijeloj stazi VIA DINARICA (2019-2023) | C18: Do 2023. godine najmanje 10.000 turista godišnje posjeti bijele i zelene staze Via Dinnarice. | D18: 400000 | E18: =SUM(I18+U18) -> 210000 | F18: 0 | G18: 30000 | H18: 30000 | I18: =SUM(F18:H18) -> 60000 | J18: 0 | K18: 50000 | L18: 0 | M18: 0 | N18: 0 | O18: 0 | P18: 0 | Q18: 0 | R18: =SUM(J18:Q18) -> 50000 | S18: 50000 | T18: 50000 | U18: =SUM(R18:T18) -> 150000 | V18: Služba za opću upravu, društvene djelatnosti, boračko-invalidsku zaštitu, socijalna pitanja i zajedničke poslove (više službi) | W18: Kapitalni transferi 615000 /IPA / UNDP / Ministarstvo trgovine, turizma i zaštite okoliša HNK | X18: Služba za opću upravu, društvene djelatnosti, boračko-invalidsku zaštitu, socijalna pitanja i zajedničke poslove | Y18: 2019 (E) | Z18: ES
A19: SC1/SEC1.3 | B19: 1.3.1.2. Projekat: Obnova porušenog istorijskog mosta preko rijeke Neretve (2019-2023) | C19: Do 2023.g. broj posjetilaca kompleksu bitka na Neretvi iznosi najmanje 60.000 na godišnjem nivou. | D19: 1250000 | E19: =SUM(I19+U19) -> 1250000 | F19: 200000 | G19: 0 | H19: 50000 | I19: =SUM(F19:H19) -> 250000 | J19: 0 | K19: 0 | L19: 0 | M19: 0 | N19: 0 | O19: 0 | P19: 500000 | Q19: 0 | R19: =SUM(J19:Q19) -> 500000 | S19: 500000 | T19: 0 | U19: =SUM(R19:T19) -> 1000000 | V19: Elektroprivreda | W19: Kapitalni transferi 615000 / JP EP BiH | X19: Služba za opću upravu, društvene djelatnosti, boračko-invalidsku zaštitu, socijalna pitanja i zajedničke poslove | Y19: 2019 (E) | Z19: ES
A20: SC1/SEC1.3 | B20: 1.3.1.3. Projekat: Revitalizacija zgrade i platoa Muzeja “Bitka za ranjenike na Neretvi” (2019-2023) | C20: Do 2023.g. broj posjetilaca kompleksu bitka na Neretvi iznosi najmanje 60.000 na godišnjem nivou. | D20: 400000 | E20: =SUM(I20+U20) -> 240000 | F20: 20000 | G20: 20000 | H20: 20000 | I20: =SUM(F20:H20) -> 60000 | J20: 0 | K20: 0 | L20: 60000 | M20: 0 | N20: 0 | O20: 0 | P20: 0 | Q20: 0 | R20: =SUM(J20:Q20) -> 60000 | S20: 60000 | T20: 60000 | U20: =SUM(R20:T20) -> 180000 | V20: JU Muzej Bitka za ranjenike na Neretvi | W20: Kapitalni transferi 615000 / Federalno ministarstvo kulture i sporta | X20: Služba za opću upravu, društvene djelatnosti, boračko-invalidsku zaštitu, socijalna pitanja i zajedničke poslove | Y20: 2019 (C) | Z20: ES
A21: SC1/SEC1.3 | B21: 1.3.1.4. Projekat: Putevima bosanskih bogumila (2019-2023) | C21: Do 2023.g. biciklističku stazu posjeti najmanje 1.000 korisnika na godišnjem nivou | D21: 15000 | E21: =SUM(I21+U21) -> 15000 | F21: 3000 | G21: 3000 | H21: 3000 | I21: =SUM(F21:H21) -> 9000 | J21: 0 | K21: 0 | L21: 0 | M21: 0 | N21: 0 | O21: 0 | P21: 2000 | Q21: 0 | R21: =SUM(J21:Q21) -> 2000 | S21: 2000 | T21: 2000 | U21: =SUM(R21:T21) -> 6000 | V21: Turistička agencija Vizit Jablanica | W21: Tekući transferi 614000 / Ministarstvo trgovine, turizma i zaštite okoliša HNK | X21: Služba za opću upravu, društvene djelatnosti, boračko-invalidsku zaštitu, socijalna pitanja i zajedničke poslove | Y21: 2019 (A) | Z21: ES
A22: SC1/SEC1.3 | B22: 1.3.1.5. Projekat: Jačanje kapaciteta turističke zajednice i turističkih agencija (2019-2023) | C22: Do 2023.g. certificirano najmanje 10 turističkih vodiča sa područja općine. | D22: 50000 | E22: =SUM(I22+U22) -> 30000 | F22: 5000 | G22: 5000 | H22: 5000 | I22: =SUM(F22:H22) -> 15000 | J22: 0 | K22: 0 | L22: 0 | M22: 0 | N22: 0 | O22: 0 | P22: 5000 | Q22: 0 | R22: =SUM(J22:Q22) -> 5000 | S22: 5000 | T22: 5000 | U22: =SUM(R22:T22) -> 15000 | V22: Služba za opću upravu, društvene djelatnosti, boračko-invalidsku zaštitu, socijalna pitanja i zajedničke poslove | W22: Tekući transferi 614000 / Ministarstvo trgovine, turizma i zaštite okoliša HNK | X22: Služba za prostorno uređenje, građenje, zaštitu okoline, stambeno-komunalne poslove | Y22: 2019 (D) | Z22: ES
A23: SC1/SEC1.3 | B23: 1.3.1.6. Projekat: Uređenje kulturno-historijskog lokaliteta Lokve. (2019-2023) | C23: Do 2023.g. turističku destinaciju Lokve posjeti najmanje 1500 turista na godišnjem nivou. | D23: 300000 | E23: =SUM(I23+U23) -> 220000 | F23: 60000 | G23: 20000 | H23: 20000 | I23: =SUM(F23:H23) -> 100000 | J23: 0 | K23: 40000 | L23: 0 | M23: 0 | N23: 0 | O23: 0 | P23: 0 | Q23: 0 | R23: =SUM(J23:Q23) -> 40000 | S23: 40000 | T23: 40000 | U23: =SUM(R23:T23) -> 120000 | V23: Služba za lokalni ekonomski razvoj i investicije, finansije i trezor | W23: Kapitalni transferi 615000 / Ministarstvo trgovine, turizma i zaštite okoliša HNK | X23: Služba za upravu za geodetske, imovinsko- pravne poslove i katastar nekretnina | Y23: 2019 (D) | Z23: ES
A24: SC1/SEC1.3 | B24: 1.3.2.1. Mjera: Program razvoja agroturizma (2019-2023) | C24: Do 2023.g. količina povrća uzgojenog u zaštićenom prostoru je za najmanje 30% veća u odnosu na 2017. | D24: 250000 | E24: =SUM(I24+U24) -> 150000 | F24: 20000 | G24: 20000 | H24: 20000 | I24: =SUM(F24:H24) -> 60000 | J24: 0 | K24: 30000 | L24: 0 | M24: 0 | N24: 0 | O24: 0 | P24: 0 | Q24: 0 | R24: =SUM(J24:Q24) -> 30000 | S24: 30000 | T24: 30000 | U24: =SUM(R24:T24) -> 90000 | V24: Služba za opću upravu, društvene djelatnosti, boračko-invalidsku zaštitu, socijalna pitanja i zajedničke poslove | W24: Kapitalni transferi 615000 / Ministarstvo poljoprivrede, šumarstva i vodoprivrede HNK | X24: Služba za opću upravu, društvene djelatnosti, boračko-invalidsku zaštitu, socijalna pitanja i zajedničke poslove | Y24: 2019 (E) | Z24: ES
A25: SC1/SEC1.3 | B25: 1.3.2.2. Projekat: Izrada sistema za navodnjavanje poljoprivrednih površina (2020-2023) | C25: Do 2023.g. količina proizvedenog povrća na otvorenom je za najmanje 20% veća u odnosu na 2017. | D25: 310000 | E25: =SUM(I25+U25) -> 210000 | F25: 0 | G25: 30000 | H25: 30000 | I25: =SUM(F25:H25) -> 60000 | J25: 0 | K25: 0 | L25: 0 | M25: 0 | N25: 0 | O25: 0 | P25: 0 | Q25: 0 | R25: =SUM(J25:Q25) -> 0 | S25: 50000 | T25: 100000 | U25: =SUM(R25:T25) -> 150000 | V25: Služba za opću upravu, društvene djelatnosti, boračko-invalidsku zaštitu, socijalna pitanja i zajedničke poslove | W25: Kapitalni transferi 615000 / Ministarstvo poljoprivrede, šumarstva i vodoprivrede HNK | X25: Služba za opću upravu, društvene djelatnosti, boračko-invalidsku zaštitu, socijalna pitanja i zajedničke poslove | Y25: 2020 (C) | Z25: ES
A26: SC1/SEC1.3 | B26: 1.3.2.4. Mjera: Manifestacija „Okusi Jablanice„ (2019-2023) | C26: U 2023. manifestacija Okusi Jablanice finansira se sa najmanje 50% iz vlastitih sredstava ostvarenih tokom trajanja manifestacije | D26: 50000 | E26: =SUM(I26+U26) -> 30000 | F26: 5000 | G26: 5000 | H26: 5000 | I26: =SUM(F26:H26) -> 15000 | J26: 0 | K26: 0 | L26: 0 | M26: 0 | N26: 0 | O26: 0 | P26: 5000 | Q26: 0 | R26: =SUM(J26:Q26) -> 5000 | S26: 5000 | T26: 5000 | U26: =SUM(R26:T26) -> 15000 | V26: Udruženje žena Most | W26: Tekući transferi 614000 / Ministarstvo trgovine, turizma i zaštite okoliša HNK | X26: Služba za lokalni ekonomski razvoj i investicije, finansije i trezor | Y26: 2019 (E) | Z26: ES
A27: SC1/SEC1.3 | B27: 1.3.2.5. Projekat: Izrada studije izvodljivosti za izgradnju centra za otkup, skladištenje i preradu poljoprivrednih proizvoda (2020) | C27: Do 2022 studija izvodljivosti prihvaćena od strane općinskog vijeća | D27: 7000 | E27: =SUM(I27+U27) -> 7000 | F27: 0 | G27: 7000 | H27: 0 | I27: =SUM(F27:H27) -> 7000 | J27: 0 | K27: 0 | L27: 0 | M27: 0 | N27: 0 | O27: 0 | P27: 0 | Q27: 0 | R27: =SUM(J27:Q27) -> 0 | S27: 0 | T27: 0 | U27: =SUM(R27:T27) -> 0 | V27: Služba za opću upravu, društvene djelatnosti, boračko-invalidsku zaštitu, socijalna pitanja i zajedničke poslove | W27: Tekući transferi 614000 | X27: Služba za opću upravu, društvene djelatnosti, boračko-invalidsku zaštitu, socijalna pitanja i zajedničke poslove | Y27: 2020 | Z27: ES
A28: SC1/SEC1.3 | B28: 1.3.2.6. Mjera: Poticaj za proizvodnju i otkup jagodičastog i bobičastog voća (2020-2023) | C28: Do 2023. količina otkupljenog jagodičastog i bobičastog voća iznosi najmanje 100 tona godišnje. | D28: 40000 | E28: =SUM(I28+U28) -> 20000 | F28: 0 | G28: 10000 | H28: 10000 | I28: =SUM(F28:H28) -> 20000 | J28: 0 | K28: 0 | L28: 0 | M28: 0 | N28: 0 | O28: 0 | P28: 0 | Q28: 0 | R28: =SUM(J28:Q28) -> 0 | S28: 0 | T28: 0 | U28: =SUM(R28:T28) -> 0 | V28: Služba za opću upravu, društvene djelatnosti, boračko-invalidsku zaštitu, socijalna pitanja i zajedničke poslove | W28: Tekući transferi 614000 | X28: Služba za opću upravu, društvene djelatnosti, boračko-invalidsku zaštitu, socijalna pitanja i zajedničke poslove | Y28: 2020 | Z28: ES
A29: SC2/SEC2.1 | B29: 2.1.1.1. Projekat: Nabavka adekvatne vanjske scenske pozornice (2020) | C29: Do kraja 2020 godine na vanjskoj sceni se realiziralo najmanje 10 kulturnih događaja na godišnjem nivou. | D29: 40000 | E29: =SUM(I29+U29) -> 40000 | F29: 0 | G29: 20000 | H29: 0 | I29: =SUM(F29:H29) -> 20000 | J29: 0 | K29: 0 | L29: 0 | M29: 0 | N29: 0 | O29: 0 | P29: 0 | Q29: 0 | R29: =SUM(J29:Q29) -> 0 | S29: 20000 | T29: 0 | U29: =SUM(R29:T29) -> 20000 | V29: Služba za opću upravu, društvene djelatnosti, boračko-invalidsku zaštitu, socijalna pitanja i zajedničke poslove | W29: Kapitalni transferi 615000 / Ministarstvo trgovine, turizma i zaštite okoliša HNK | X29: Služba za opću upravu, društvene djelatnosti, boračko-invalidsku zaštitu, socijalna pitanja i zajedničke poslove | Y29: 2020 (E) | Z29: DS
A30: SC2/SEC2.1 | B30: 2.1.1.2 Rekonstrukcija kino dvorane u Jablanici - I faza (2019-2023) | C30: Do 2023. godine na godišnjem nivou se organizira najmanje 50 različitih događaja u kino sali. | D30: 500000 | E30: =SUM(I30+U30) -> 280000 | F30: 30000 | G30: 50000 | H30: 50000 | I30: =SUM(F30:H30) -> 130000 | J30: 0 | K30: 0 | L30: 0 | M30: 0 | N30: 0 | O30: 0 | P30: 50000 | Q30: 0 | R30: =SUM(J30:Q30) -> 50000 | S30: 50000 | T30: 50000 | U30: =SUM(R30:T30) -> 150000 | V30: Služba za opću upravu, društvene djelatnosti, boračko-invalidsku zaštitu, socijalna pitanja i zajedničke poslove | W30: Kapitalni transferi 615000 / Federalno ministarstvo kulture i sporta | X30: Služba za opću upravu, društvene djelatnosti, boračko-invalidsku zaštitu, socijalna pitanja i zajedničke poslove | Y30: 2019 (C) | Z30: DS
A31: SC2/SEC2.1 | B31: 2.1.1.3. Projekat: Promocija aktivnosti jablaničkog ljeta (2019-2023) | C31: Do 2023.g manifestacija Jablaničko ljeto postala dio zvanične turističke ponude HNK. | D31: 20000 | E31: =SUM(I31+U31) -> 12000 | F31: 4000 | G31: 4000 | H31: 4000 | I31: =SUM(F31:H31) -> 12000 | J31: 0 | K31: 0 | L31: 0 | M31: 0 | N31: 0 | O31: 0 | P31: 0 | Q31: 0 | R31: =SUM(J31:Q31) -> 0 | S31: 0 | T31: 0 | U31: =SUM(R31:T31) -> 0 | V31: OKPIS | W31: Tekući transferi 614000 | X31: Služba za opću upravu, društvene djelatnosti, boračko-invalidsku zaštitu, socijalna pitanja i zajedničke poslove | Y31: 2019 | Z31: DS
A32: SC2/SEC2.1 | B32: 2.1.1.4. Modernizacija audio-video opreme u RTV Jablanica (2020-2023) | C32: Do 2023.g. cjelokupno osoblje RTV Jablanica osposobljeno za rad na digitalnoj opremi. | D32: 190000 | E32: =SUM(I32+U32) -> 120000 | F32: 0 | G32: 15000 | H32: 15000 | I32: =SUM(F32:H32) -> 30000 | J32: 0 | K32: 0 | L32: 0 | M32: 0 | N32: 0 | O32: 0 | P32: 0 | Q32: 0 | R32: =SUM(J32:Q32) -> 0 | S32: 30000 | T32: 60000 | U32: =SUM(R32:T32) -> 90000 | V32: JU RTV Jablanica | W32: Kapitalni transferi 615000 / Vlada HNK | X32: Služba za opću upravu, društvene djelatnosti, boračko-invalidsku zaštitu, socijalna pitanja i zajedničke poslove | Y32: 2020 (A) | Z32: DS
A33: SC2/SEC2.1 | B33: 2.1.1.5 Mjera: RockMaraton DemoFest (2019-2023) | C33: Do 2023.g u kalendar kulturnih dešavanja općine uvršten RockMaraton DemoFest | D33: 210000 | E33: =SUM(I33+U33) -> 126000 | F33: 7000 | G33: 7000 | H33: 7000 | I33: =SUM(F33:H33) -> 21000 | J33: 0 | K33: 0 | L33: 0 | M33: 0 | N33: 0 | O33: 0 | P33: 35000 | Q33: 0 | R33: =SUM(J33:Q33) -> 35000 | S33: 35000 | T33: 35000 | U33: =SUM(R33:T33) -> 105000 | V33: Omladinski kulturni centar „UrbanArt“ Jablanica | W33: Kapitalni transferi 615000 / Ministarstvo trgovine, turizma i zaštite okoliša HNK | X33: Služba za opću upravu, društvene djelatnosti, boračko-invalidsku zaštitu, socijalna pitanja i zajedničke poslove | Y33: 2019 (E) | Z33: DS
A34: SC2/SEC2.1 | B34: 2.1.1.6. Mjera: Izrada i provedba Godišnjeg kalendara pozorišnih predstava (2019-2023) | C34: Do 2023.g pozorišni dani uvršteni u zvanični kalendar kulturnih događanja u HNK. | D34: 65000 | E34: =SUM(I34+U34) -> 39000 | F34: 7000 | G34: 7000 | H34: 7000 | I34: =SUM(F34:H34) -> 21000 | J34: 0 | K34: 0 | L34: 0 | M34: 0 | N34: 0 | O34: 0 | P34: 6000 | Q34: 0 | R34: =SUM(J34:Q34) -> 6000 | S34: 6000 | T34: 6000 | U34: =SUM(R34:T34) -> 18000 | V34: Služba za opću upravu, društvene djelatnosti, boračko-invalidsku zaštitu, socijalna pitanja i zajedničke poslove | W34: Tekući transferi 614000 / OKPIS | X34: Služba za opću upravu, društvene djelatnosti, boračko-invalidsku zaštitu, socijalna pitanja i zajedničke poslove | Y34: 2019 (C) | Z34: DS
A35: SC2/SEC2.1 | B35: 2.1.1.7. Mjera: Obilježavanje historijskih datuma (2019-2023) | C35: Do 2023.g izrađen kalendar obilježavanja značajnih historijskih datuma | D35: 70000 | E35: =SUM(I35+U35) -> 39000 | F35: 7000 | G35: 10000 | H35: 10000 | I35: =SUM(F35:H35) -> 27000 | J35: 0 | K35: 0 | L35: 0 | M35: 0 | N35: 0 | O35: 0 | P35: 4000 | Q35: 0 | R35: =SUM(J35:Q35) -> 4000 | S35: 4000 | T35: 4000 | U35: =SUM(R35:T35) -> 12000 | V35: SABNOR i JOB | W35: Tekući transferi 614000 / Ministarstvo trgovine, turizma i zaštite okoliša HNK | X35: Služba za opću upravu, društvene djelatnosti, boračko-invalidsku zaštitu, socijalna pitanja i zajedničke poslove | Y35: 2019 (D) | Z35: DS
A36: SC2/SEC2.1 | B36: 2.1.2.1. Projekat: Rekonstrukcija stadiona Zlatan Alikadić Tazlo (2019-2023) | C36: Do 2023.g. na stadionu malih sportova se organizuje najmanje 50 različitih sportskih događaja na godišnjem nivou | D36: 210000 | E36: =SUM(I36+U36) -> 210000 | F36: 0 | G36: 30000 | H36: 30000 | I36: =SUM(F36:H36) -> 60000 | J36: 100000 | K36: 0 | L36: 0 | M36: 0 | N36: 0 | O36: 0 | P36: 0 | Q36: 0 | R36: =SUM(J36:Q36) -> 100000 | S36: 25000 | T36: 25000 | U36: =SUM(R36:T36) -> 150000 | V36: Služba za opću upravu, društvene djelatnosti, boračko-invalidsku zaštitu, socijalna pitanja i zajedničke poslove | W36: Kapitalni transferi 820000 / Kredit / Federalno ministarstvo kulture i sporta /Ministarstvo trgovine, turizma i zaštite okoliša HNK | X36: Služba za opću upravu, društvene djelatnosti, boračko-invalidsku zaštitu, socijalna pitanja i zajedničke poslove | Y36: 2019 (C) | Z36: DS
A37: SC2/SEC2.1 | B37: 2.1.2.2. Projekat: Izgradnja pomoćnog stadiona za fudbal (2019-2023) | C37: Do 2023.g. na pomoćnom stadionu za veliki fudbal se organizuje najmanje 20 različitih sportskih događaja. | D37: 500000 | E37: =SUM(I37+U37) -> 500000 | F37: 0 | G37: 0 | H37: 0 | I37: =SUM(F37:H37) -> 0 | J37: 500000 | K37: 0 | L37: 0 | M37: 0 | N37: 0 | O37: 0 | P37: 0 | Q37: 0 | R37: =SUM(J37:Q37) -> 500000 | S37: 0 | T37: 0 | U37: =SUM(R37:T37) -> 500000 | V37: Služba za opću upravu, društvene djelatnosti, boračko-invalidsku zaštitu, socijalna pitanja i zajedničke poslove | W37: Kapitalni transferi 820000 / Kredit | X37: Služba za opću upravu, društvene djelatnosti, boračko-invalidsku zaštitu, socijalna pitanja i zajedničke poslove | Y37: 2019 (D) | Z37: DS
A38: SC2/SEC2.2 | B38: 2.2.1.1. Izgradnja vatrogasnog doma - I faza izgradnje (2019-2021) | C38: Do 2023.g. Prosječno vrijeme dolaska vatrogasne jedinice na mjesto događaja smanjeno za najmanje 30%. | D38: 150000 | E38: =SUM(I38+U38) -> 150000 | F38: 15000 | G38: 35000 | H38: 0 | I38: =SUM(F38:H38) -> 50000 | J38: 0 | K38: 0 | L38: 0 | M38: 0 | N38: 0 | O38: 0 | P38: 20000 | Q38: 0 | R38: =SUM(J38:Q38) -> 20000 | S38: 40000 | T38: 40000 | U38: =SUM(R38:T38) -> 100000 | V38: Služba za civilnu i protivpožarnu zaštitu | W38: Kapitalni transferi 820000 / Uprava za civilnu zaštitu i vatrogastvo HNK | X38: Služba za civilnu i protivpožarnu zaštitu | Y38: 2019 (A) | Z38: DS
A39: SC2/SEC2.2 | B39: 2.2.1.2. Projekat: Uspostava vatrogasnog servisa (2020-2021) | C39: Do 2021.g. na godišnjem nivou se servisira najmanje 100 vatrogasnih aparata. | D39: 42000 | E39: =SUM(I39+U39) -> 42000 | F39: 0 | G39: 15000 | H39: 20000 | I39: =SUM(F39:H39) -> 35000 | J39: 0 | K39: 0 | L39: 0 | M39: 0 | N39: 0 | O39: 0 | P39: 0 | Q39: 0 | R39: =SUM(J39:Q39) -> 0 | S39: 0 | T39: 7000 | U39: =SUM(R39:T39) -> 7000 | V39: Dobrovoljno vatrogasno društvo | W39: Kapitalni transferi 615000 / Uprava za civilnu zaštitu i vatrogastvo HNK | X39: Služba za civilnu i protivpožarnu zaštitu | Y39: 2020 (B) | Z39: DS
A40: SC2/SEC2.2 | B40: 2.2.1.3. Projekat: Obuka uposlenika javnih ustanova na temu protivpožarne zaštite (2019-2020) | C40: Do 2020.g. nije zabilježen niti jedan požarni incident u objektima javnih ustanova sa posljedicama povređivanja. | D40: 5000 | E40: =SUM(I40+U40) -> 5000 | F40: 2500 | G40: 2500 | H40: 0 | I40: =SUM(F40:H40) -> 5000 | J40: 0 | K40: 0 | L40: 0 | M40: 0 | N40: 0 | O40: 0 | P40: 0 | Q40: 0 | R40: =SUM(J40:Q40) -> 0 | S40: 0 | T40: 0 | U40: =SUM(R40:T40) -> 0 | V40: Služba za civilnu i protivpožarnu zaštitu | W40: Tekući transferi 614000 | X40: Služba za civilnu i protivpožarnu zaštitu | Y40: 2019 | Z40: DS
A41: SC2/SEC2.2 | B41: 2.2.2.1. Projekat: Edukacija osnovaca i srednjoškolaca o osnovnim mjerama zaštite ljudskih i materijalnih resursa (2019-2023) | C41: Do 2023. godine svi učenici osnovnih i srednjih škola završili edukaciju na temu smanjenja rizika od katastrofa | D41: 45400 | E41: =SUM(I41+U41) -> 28000 | F41: 1000 | G41: 1000 | H41: 1000 | I41: =SUM(F41:H41) -> 3000 | J41: 0 | K41: 0 | L41: 0 | M41: 0 | N41: 0 | O41: 0 | P41: 5000 | Q41: 0 | R41: =SUM(J41:Q41) -> 5000 | S41: 10000 | T41: 10000 | U41: =SUM(R41:T41) -> 25000 | V41: JUOŠ | W41: Tekući transferi 614000 / Ministarstvo obrazovanja, nauke, kulture i sporta HNK / Srednja škola Jablanica | X41: Služba za civilnu i protivpožarnu zaštitu | Y41: 2019 (B) | Z41: DS
...

Sheet Ukupno po sektorima
B2: REKAPITULACIJA PO SEKTORIMA (Plan Implementacije I + II + III god.)
B3: Sektor | C3: Ukupni orijent. izdaci (do završetka projekta) | D3: Ukupni predviđeni izdaci (za III godine) | E3: Finansiranje iz budžeta JLS | I3: Finansiranje iz ostalih izvora | U3: Broj projekata
E4: Pregled po godinama | I4: Struktura ostalih izvora za I.god. | Q4: Pregled ostalih izvora po godinama
E5: god. I | F5: god. II | G5: god. III | H5: ukupno (I+II+III) | I5: Kredit | J5: Entitet Kanton | K5: Država | L5: Javna poduzeca | M5: Privatni izvori | N5: IPA | O5: Donatori | P5: Ostalo | Q5: god. I | R5: god. II | S5: god. III | T5: ukupno (I+II+III)
B7: Ekonomski sektor | C7: =SUMIF('Plan 2019-2021'!$Z7:$Z90,"ES",'Plan 2019-2021'!D7:D90) -> 8420000 | D7: =SUMIF('Plan 2019-2021'!$Z7:$Z90,"ES",'Plan 2019-2021'!E7:E90) -> 6338000 | E7: =SUMIF('Plan 2019-2021'!$Z7:$Z90,"ES",'Plan 2019-2021'!F7:F90) -> 506000 | F7: =SUMIF('Plan 2019-2021'!$Z7:$Z90,"ES",'Plan 2019-2021'!G7:G90) -> 595000 | G7: =SUMIF('Plan 2019-2021'!$Z7:$Z90,"ES",'Plan 2019-2021'!H7:H90) -> 753000 | H7: =SUMIF('Plan 2019-2021'!$Z7:$Z90,"ES",'Plan 2019-2021'!I7:I90) -> 1854000 | I7: =SUMIF('Plan 2019-2021'!$Z7:$Z90,"ES",'Plan 2019-2021'!J7:J90) -> 2000000 | J7: =SUMIF('Plan 2019-2021'!$Z7:$Z90,"ES",'Plan 2019-2021'!K7:K90) -> 390000 | ... T7: =SUMIF('Plan 2019-2021'!$Z7:$Z90,"ES",'Plan 2019-2021'!U7:U90) -> 4484000 | U7: =COUNTIF('Plan 2019-2021'!$Z7:$Z90,"ES") -> 22
B8: Društveni sektor | C8: =SUMIF('Plan 2019-2021'!$Z7:$Z90,"DS",'Plan 2019-2021'!D7:D90) -> 4559100 | D8: =SUMIF('Plan 2019-2021'!$Z7:$Z90,"DS",'Plan 2019-2021'!E7:E90) -> 3403700 | E8: =SUMIF('Plan 2019-2021'!$Z7:$Z90,"DS",'Plan 2019-2021'!F7:F90) -> 654500 | F8: =SUMIF('Plan 2019-2021'!$Z7:$Z90,"DS",'Plan 2019-2021'!G7:G90) -> 383500 | G8: =SUMIF('Plan 2019-2021'!$Z7:$Z90,"DS",'Plan 2019-2021'!H7:H90) -> 358000 | H8: =SUMIF('Plan 2019-2021'!$Z7:$Z90,"DS",'Plan 2019-2021'!I7:I90) -> 1396000 | I8: =SUMIF('Plan 2019-2021'!$Z7:$Z90,"DS",'Plan 2019-2021'!J7:J90) -> 600000 | J8: =SUMIF('Plan 2019-2021'!$Z7:$Z90,"DS",'Plan 2019-2021'!K7:K90) -> 0 | ... T8: =SUMIF('Plan 2019-2021'!$Z7:$Z90,"DS",'Plan 2019-2021'!U7:U90) -> 2007700 | U8: =COUNTIF('Plan 2019-2021'!$Z7:$Z90,"DS") -> 41
B9: Sektor okoliša /zaštite životne sredine | C9: =SUMIF('Plan 2019-2021'!$Z7:$Z90,"SO",'Plan 2019-2021'!D7:D90) -> 5635000 | D9: =SUMIF('Plan 2019-2021'!$Z7:$Z90,"SO",'Plan 2019-2021'!E7:E90) -> 3436000 | E9: =SUMIF('Plan 2019-2021'!$Z7:$Z90,"SO",'Plan 2019-2021'!F7:F90) -> 331000 | F9: =SUMIF('Plan 2019-2021'!$Z7:$Z90,"SO",'Plan 2019-2021'!G7:G90) -> 725000 | G9: =SUMIF('Plan 2019-2021'!$Z7:$Z90,"SO",'Plan 2019-2021'!H7:H90) -> 745000 | H9: =SUMIF('Plan 2019-2021'!$Z7:$Z90,"SO",'Plan 2019-2021'!I7:I90) -> 1801000 | I9: =SUMIF('Plan 2019-2021'!$Z7:$Z90,"SO",'Plan 2019-2021'!J7:J90) -> 0 | J9: =SUMIF('Plan 2019-2021'!$Z7:$Z90,"SO",'Plan 2019-2021'!K7:K90) -> 140000 | ... T9: =SUMIF('Plan 2019-2021'!$Z7:$Z90,"SO",'Plan 2019-2021'!U7:U90) -> 1635000 | U9: =COUNTIF('Plan 2019-2021'!$Z7:$Z90,"SO") -> 18
B10: U K U P N O | C10: =SUM(C7:C9) -> 18614100 | D10: =SUM(D7:D9) -> 13177700 | E10: =SUM(E7:E9) -> 1491500 | F10: =SUM(F7:F9) -> 1703500 | G10: =SUM(G7:G9) -> 1856000 | H10: =SUM(H7:H9) -> 5051000 | I10: =SUM(I7:I9) -> 2600000 | J10: =SUM(J7:J9) -> 530000 | ... U10: =SUM(U7:U9) -> 81
B12: Napomena: Podaci u tabeli "Rekapitulacija" računaju se ispravno ukoliko su u pomoćnu kolonu "Plana Implementacije" pravilno unešene oznake sektora (na sljedeći način: ES, DS, SO).

Sheet Ukupno po godinama
B2: Rekapitulacija po godinama (Plan Implementacije I + II + III god.)
B3: Sektor | C3: Ukupno I god. | D3: Finansiranje iz budžeta JLS | E3: Finansiranje iz ostalih izvora
B6: Ekonomski sektor | C6: =D6+E6 -> 3476000 | D6: ='Ukupno po sektorima'!$E$7 -> 506000 | E6: ='Ukupno po sektorima'!Q7 -> 2970000
B7: Društveni sektor | C7: =D7+E7 -> 2034200 | D7: ='Ukupno po sektorima'!$E$8 -> 654500 | E7: ='Ukupno po sektorima'!Q8 -> 1379700
B8: Sektor okoliša / zaštite životne sredine | C8: =D8+E8 -> 681000 | D8: ='Ukupno po sektorima'!$E$9 -> 331000 | E8: ='Ukupno po sektorima'!Q9 -> 350000
B9: Ukupno | C9: =SUM(C6:C8) -> 6191200 | D9: =SUM(D6:D8) -> 1491500 | E9: =SUM(E6:E8) -> 4699700
B10: Sektor | C10: Ukupno II god. | D10: Finansiranje iz budžeta JLS | E10: Finansiranje iz ostalih izvora
B13: Ekonomski sektor | C13: =D13+E13 -> 1537000 | D13: ='Ukupno po sektorima'!$F$7 -> 595000 | E13: ='Ukupno po sektorima'!R7 -> 942000
B14: Društveni sektor | C14: =D14+E14 -> 690500 | D14: ='Ukupno po sektorima'!$F$8 -> 383500 | E14: ='Ukupno po sektorima'!R8 -> 307000
B15: Sektor okoliša / zaštite životne sredine | C15: =D15+E15 -> 1360000 | D15: ='Ukupno po sektorima'!$F$9 -> 725000 | E15: ='Ukupno po sektorima'!R9 -> 635000
B16: Ukupno | C16: =SUM(C13:C15) -> 3587500 | D16: =SUM(D13:D15) -> 1703500 | E16: =SUM(E13:E15) -> 1884000
B17: Sektor | C17: Ukupno III god. | D17: Finansiranje iz budžeta JLS | E17: Finansiranje iz ostalih izvora
B20: Ekonomski sektor | C20: =D20+E20 -> 1325000 | D20: ='Ukupno po sektorima'!$G$7 -> 753000 | E20: ='Ukupno po sektorima'!S7 -> 572000
B21: Društveni sektor | C21: =D21+E21 -> 679000 | D21: ='Ukupno po sektorima'!$G$8 -> 358000 | E21: ='Ukupno po sektorima'!S8 -> 321000
B22: Sektor okoliša / zaštite životne sredine | C22: =D22+E22 -> 1395000 | D22: ='Ukupno po sektorima'!$G$9 -> 745000 | E22: ='Ukupno po sektorima'!S9 -> 650000
B23: Ukupno | C23: =SUM(C20:C22) -> 3399000 | D23: =SUM(D20:D22) -> 1856000 | E23: =SUM(E20:E22) -> 1543000
B25: U K U P N O (I + II + III) | C25: =C9+C16+C23 -> 13177700 | D25: =D9+D16+D23 -> 5051000 | E25: =E9+E16+E23 -> 8126700

Sheet Ukupno po A-E klasama
B2: REKAPITULACIJA PO IZVORIMA FINANSIRANJA (Plan Implementacije I + II + III god.)
B3: Vrsta | C3: Projekti | E3: Ukupni predviđeni izdaci (za III godine) | G3: Finansiranje iz budžeta JLS | K3: Finansiranje iz ostalih izvora
G4: Pregled po godinama | K4: Pregled ostalih izvora po godinama
C5: Broj projekata | D5: % od svih | E5: Vrijednost | F5: % od ukupno | G5: god. I | H5: god. II | I5: god. III | J5: ukupno (I+II+III) | K5: god. I | L5: god. II | M5: god. III | N5: ukupno (I+II+III)
B7: A- projekti za koje nema ideje od kuda bi se mogli finansirati; | C7: =COUNTIF('Plan 2019-2021'!$Y7:$Y90,"*A*") -> 11 | D7: =C7/C$13 -> 0.13580247 | E7: =SUMIF('Plan 2019-2021'!$Y7:$Y90,"*A*",'Plan 2019-2021'!E7:E90) -> 1317000 | F7: =E7/E$13 -> 0.099941568 | G7: =SUMIF('Plan 2019-2021'!$Y7:$Y90,"*A*",'Plan 2019-2021'!F7:F90) -> 31000 | H7: =SUMIF('Plan 2019-2021'!$Y7:$Y90,"*A*",'Plan 2019-2021'!G7:G90) -> 336000 | I7: =SUMIF('Plan 2019-2021'!$Y7:$Y90,"*A*",'Plan 2019-2021'!H7:H90) -> 317000 | J7: =SUM(G7:I7) -> 684000 | K7: =SUMIF('Plan 2019-2021'!$Y7:$Y90,"*A*",'Plan 2019-2021'!R7:R90) -> 60000 | L7: =SUMIF('Plan 2019-2021'!$Y7:$Y90,"*A*",'Plan 2019-2021'!S7:S90) -> 324000 | M7: =SUMIF('Plan 2019-2021'!$Y7:$Y90,"*A*",'Plan 2019-2021'!T7:T90) -> 249000 | N7: =SUM(K7:M7) -> 633000
B8: B- projekti za koje ima ideje ko bi mogao biti donator ali nije napravljen projektni prijedlog i nije aplicirano; | C8: =COUNTIF('Plan 2019-2021'!$Y7:$Y90,"*B*") -> 6 | D8: =C8/C$13 -> 0.074074074 | E8: =SUMIF('Plan 2019-2021'!$Y7:$Y90,"*B*",'Plan 2019-2021'!E7:E90) -> 232000 | F8: =E8/E$13 -> 0.0176055 | G8: =SUMIF('Plan 2019-2021'!$Y7:$Y90,"*B*",'Plan 2019-2021'!F7:F90) -> 20000 | H8: =SUMIF('Plan 2019-2021'!$Y7:$Y90,"*B*",'Plan 2019-2021'!G7:G90) -> 35000 | I8: =SUMIF('Plan 2019-2021'!$Y7:$Y90,"*B*",'Plan 2019-2021'!H7:H90) -> 42000 | J8: =SUM(G8:I8) -> 97000 | K8: =SUMIF('Plan 2019-2021'!$Y7:$Y90,"*B*",'Plan 2019-2021'!R7:R90) -> 38000 | L8: =SUMIF('Plan 2019-2021'!$Y7:$Y90,"*B*",'Plan 2019-2021'!S7:S90) -> 44000 | M8: =SUMIF('Plan 2019-2021'!$Y7:$Y90,"*B*",'Plan 2019-2021'!T7:T90) -> 53000 | N8: =SUM(K8:M8) -> 135000
B9: C-projekti za koje ima ideja ko bi mogao biti donator i za koje je napravljen projektni prijedlog i aplicirano je ali nema nikakve povratne informacije; | C9: =COUNTIF('Plan 2019-2021'!$Y7:$Y90,"*C*") -> 16 | D9: =C9/C$13 -> 0.19753086 | E9: =SUMIF('Plan 2019-2021'!$Y7:$Y90,"*C*",'Plan 2019-2021'!E7:E90) -> 2364000 | F9: =E9/E$13 -> 0.17939398 | G9: =SUMIF('Plan 2019-2021'!$Y7:$Y90,"*C*",'Plan 2019-2021'!F7:F90) -> 100000 | H9: =SUMIF('Plan 2019-2021'!$Y7:$Y90,"*C*",'Plan 2019-2021'!G7:G90) -> 254000 | I9: =SUMIF('Plan 2019-2021'!$Y7:$Y90,"*C*",'Plan 2019-2021'!H7:H90) -> 254000 | J9: =SUM(G9:I9) -> 608000 | K9: =SUMIF('Plan 2019-2021'!$Y7:$Y90,"*C*",'Plan 2019-2021'!R7:R90) -> 487000 | L9: =SUMIF('Plan 2019-2021'!$Y7:$Y90,"*C*",'Plan 2019-2021'!S7:S90) -> 567000 | M9: =SUMIF('Plan 2019-2021'!$Y7:$Y90,"*C*",'Plan 2019-2021'!T7:T90) -> 702000 | N9: =SUM(K9:M9) -> 1756000
B10: D- projekti za koje ima ideja ko bi mogao biti donator i za koje je napravljen projektni prijedlog i aplicirano je te je dobijena potvrdna povratna informacija o finansiranju; | C10: =COUNTIF('Plan 2019-2021'!$Y7:$Y90,"*D*") -> 10 | D10: =C10/C$13 -> 0.12345679 | E10: =SUMIF('Plan 2019-2021'!$Y7:$Y90,"*D*",'Plan 2019-2021'!E7:E90) -> 1835700 | F10: =E10/E$13 -> 0.13930352 | G10: =SUMIF('Plan 2019-2021'!$Y7:$Y90,"*D*",'Plan 2019-2021'!F7:F90) -> 172000 | H10: =SUMIF('Plan 2019-2021'!$Y7:$Y90,"*D*",'Plan 2019-2021'!G7:G90) -> 135000 | I10: =SUMIF('Plan 2019-2021'!$Y7:$Y90,"*D*",'Plan 2019-2021'!H7:H90) -> 140000 | J10: =SUM(G10:I10) -> 447000 | K10: =SUMIF('Plan 2019-2021'!$Y7:$Y90,"*D*",'Plan 2019-2021'!R7:R90) -> 790700 | L10: =SUMIF('Plan 2019-2021'!$Y7:$Y90,"*D*",'Plan 2019-2021'!S7:S90) -> 284000 | M10: =SUMIF('Plan 2019-2021'!$Y7:$Y90,"*D*",'Plan 2019-2021'!T7:T90) -> 314000 | N10: =SUM(K10:M10) -> 1388700
B11: E - projekti za koje je u pisanoj formi potvrđeno finansiranje i osigurana sredstva; | C11: =COUNTIF('Plan 2019-2021'!$Y6:$Y89,"*E*") -> 11 | D11: =C11/C$13 -> 0.13580247 | E11: =SUMIF('Plan 2019-2021'!$Y7:$Y90,"*E*",'Plan 2019-2021'!E7:E90) -> 4740000 | F11: =E11/E$13 -> 0.35969858 | G11: =SUMIF('Plan 2019-2021'!$Y7:$Y90,"*E*",'Plan 2019-2021'!F7:F90) -> 392000 | H11: =SUMIF('Plan 2019-2021'!$Y7:$Y90,"*E*",'Plan 2019-2021'!G7:G90) -> 102000 | I11: =SUMIF('Plan 2019-2021'!$Y7:$Y90,"*E*",'Plan 2019-2021'!H7:H90) -> 132000 | J11: =SUM(G11:I11) -> 626000 | K11: =SUMIF('Plan 2019-2021'!$Y7:$Y90,"*E*",'Plan 2019-2021'!R7:R90) -> 3324000 | L11: =SUMIF('Plan 2019-2021'!$Y7:$Y90,"*E*",'Plan 2019-2021'!S7:S90) -> 665000 | M11: =SUMIF('Plan 2019-2021'!$Y7:$Y90,"*E*",'Plan 2019-2021'!T7:T90) -> 125000 | N11: =SUM(K11:M11) -> 4114000
B12: Projekti koji se u potpunosti finansiraju iz budzeta JLS. | C12: =COUNTIF('Plan 2019-2021'!$Y7:$Y90,">0") -> 27 | D12: =C12/C$13 -> 0.33333333 | E12: =SUMIF('Plan 2019-2021'!$Y7:$Y90,">0",'Plan 2019-2021'!E7:E90) -> 2689000 | F12: =E12/E$13 -> 0.20405685 | G12: =SUMIF('Plan 2019-2021'!$Y7:$Y90,">0",'Plan 2019-2021'!F7:F90) -> 776500 | H12: =SUMIF('Plan 2019-2021'!$Y7:$Y90,">0",'Plan 2019-2021'!G7:G90) -> 841500 | I12: =SUMIF('Plan 2019-2021'!$Y7:$Y90,">0",'Plan 2019-2021'!H7:H90) -> 971000 | J12: =SUM(G12:I12) -> 2589000 | K12: =SUMIF('Plan 2019-2021'!$Y7:$Y90,">0",'Plan 2019-2021'!R7:R90) -> 0 | L12: =SUMIF('Plan 2019-2021'!$Y7:$Y90,">0",'Plan 2019-2021'!S7:S90) -> 0 | M12: =SUMIF('Plan 2019-2021'!$Y7:$Y90,">0",'Plan 2019-2021'!T7:T90) -> 100000 | N12: =SUM(K12:M12) -> 100000
B13: U K U P N O | C13: =SUM(C7:C12) -> 81 | D13: =SUM(D7:D12) -> 1 | E13: =SUM(E7:E12) -> 13177700 | F13: =SUM(F7:F12) -> 1 | G13: =SUM(G7:G12) -> 1491500 | H13: =SUM(H7:H12) -> 1703500 | I13: =SUM(I7:I12) -> 1856000 | J13: =SUM(G13:I13) -> 5051000 | K13: =SUM(K7:K12) -> 4699700 | L13: =SUM(L7:L12) -> 1884000 | M13: =SUM(M7:M12) -> 1543000 | N13: =SUM(K13:M13) -> 8126700
B15: Napomena: Podaci u tabeli "Rekapitulacija" računaju se ispravno ukoliko su u pomoćnu kolonu "Plana Implementacije" pravilno unešene godine te oznake "A-E" klasifikacije, npr. "2015 (D)". Za projekte koji se u cijelosti finsiraju iz budzeta unosi se samo godina početka projekta a ne unosi se oznaka "A-E" klasifikacije.
